Workbook
Name ColumnTitle1: Expenses[[#Headers],[Date]]
Name ColumnTitle1: Expenses[[#Headers],[Date]]
Name rngTest: TRUE
Name RowTitleRegion1..C3: 'Expense Report'!$D$7
Name RowTitleRegion2..G3: 'Expense Report'!$D$8
Name RowTitleRegion3..L4: 'Expense Report'!$M$7
Name RowTitleRegion4..C7: 'Expense Report'!$D$12
Name RowTitleRegion5..G7: 'Expense Report'!$H$12
Name RowTitleRegion6..K7: 'Expense Report'!$L$12
Name Steps_Complete: _xlfn.ANCHORARRAY('Steps - Checklist'!#REF!)
Name Steps_Complete: _xlfn.ANCHORARRAY('Steps - Exp Report'!#REF!)
Name Steps_Complete: _xlfn.ANCHORARRAY('Steps - Follow Along'!#REF!)
Name Steps_Complete: _xlfn.ANCHORARRAY(Steps!#REF!)
Name Steps_Grey: _xlfn.ANCHORARRAY('Steps - Checklist'!#REF!)
Name Steps_Grey: _xlfn.ANCHORARRAY('Steps - Exp Report'!#REF!)
Name Steps_Grey: _xlfn.ANCHORARRAY('Steps - Follow Along'!#REF!)
Name Steps_Grey: _xlfn.ANCHORARRAY(Steps!#REF!)

Sheet TOC Gallery
A1: True|False|3|Medium|Medium|False
B2: Table of Contents

Sheet Control
A1: =RANDBETWEEN(20,90)/100 -> 0.35

Sheet Dashboard
A1: 3

Sheet Dashboard Dark
A1: 3

Sheet Steps
A1: 3 | B1: Steps Chart
J3: Step | K3: Grey | L3: Complete | N3: Complete: | O3: 4
J4: =ROW()-ROW(tblSteps[[#Headers],[Step]]) -> 1 | K4: =1 -> 1 | L4: =IF(tblSteps[[#This Row],[Step]]<=$O$3,1,NA()) -> 1
J5: =ROW()-ROW(tblSteps[[#Headers],[Step]]) -> 2 | K5: =1 -> 1 | L5: =IF(tblSteps[[#This Row],[Step]]<=$O$3,1,NA()) -> 1
J6: =ROW()-ROW(tblSteps[[#Headers],[Step]]) -> 3 | K6: =1 -> 1 | L6: =IF(tblSteps[[#This Row],[Step]]<=$O$3,1,NA()) -> 1
J7: =ROW()-ROW(tblSteps[[#Headers],[Step]]) -> 4 | K7: =1 -> 1 | L7: =IF(tblSteps[[#This Row],[Step]]<=$O$3,1,NA()) -> 1
J8: =ROW()-ROW(tblSteps[[#Headers],[Step]]) -> 5 | K8: =1 -> 1 | L8: =IF(tblSteps[[#This Row],[Step]]<=$O$3,1,NA()) -> #N/A
J9: =ROW()-ROW(tblSteps[[#Headers],[Step]]) -> 6 | K9: =1 -> 1 | L9: =IF(tblSteps[[#This Row],[Step]]<=$O$3,1,NA()) -> #N/A

Sheet Steps - Follow Along
A1: 3 | B1: Steps Chart - Follow Along
N2: Complete: | O2: 4

Sheet Checklist
B1: Weekly Performance Report - Update Instructions
B3: Instructions: | L3: Checkbox Links
C4: 1 | D4: Open files | L4: TRUE | M4: {=SUM(L4:L13*1)} -> 5
C5: 2 | D5: Download report 1 | L5: TRUE
C6: 3 | D6: Download report 2 | L6: TRUE
C7: 4 | D7: Format dates in column A | L7: TRUE
C8: 5 | D8: Delete columns D,E,F | L8: TRUE
C9: 6 | D9: Unhide Data Sheet | L9: FALSE
C10: 7 | D10: Copy report 1 to Data sheet | L10: FALSE
C11: 8 | D11: Create lookup formulas | L11: FALSE
C12: 9 | D12: Repeat for report 2 | L12: FALSE
C13: 10 | D13: I'm bored, can we automate this? | L13: FALSE

Sheet Steps - Checklist
A1: 3 | B1: Steps Chart
J3: Step | K3: Grey | L3: Complete | N3: Complete: | O3: =Checklist!M4 -> 5
J4: =ROW()-ROW(tblSteps3[[#Headers],[Step]]) -> 1 | K4: =1 -> 1 | L4: =IF(tblSteps3[[#This Row],[Step]]<=$O$3,1,NA()) -> 1
J5: =ROW()-ROW(tblSteps3[[#Headers],[Step]]) -> 2 | K5: =1 -> 1 | L5: =IF(tblSteps3[[#This Row],[Step]]<=$O$3,1,NA()) -> 1
J6: =ROW()-ROW(tblSteps3[[#Headers],[Step]]) -> 3 | K6: =1 -> 1 | L6: =IF(tblSteps3[[#This Row],[Step]]<=$O$3,1,NA()) -> 1
J7: =ROW()-ROW(tblSteps3[[#Headers],[Step]]) -> 4 | K7: =1 -> 1 | L7: =IF(tblSteps3[[#This Row],[Step]]<=$O$3,1,NA()) -> 1
J8: =ROW()-ROW(tblSteps3[[#Headers],[Step]]) -> 5 | K8: =1 -> 1 | L8: =IF(tblSteps3[[#This Row],[Step]]<=$O$3,1,NA()) -> 1
J9: =ROW()-ROW(tblSteps3[[#Headers],[Step]]) -> 6 | K9: =1 -> 1 | L9: =IF(tblSteps3[[#This Row],[Step]]<=$O$3,1,NA()) -> #N/A
J10: =ROW()-ROW(tblSteps3[[#Headers],[Step]]) -> 7 | K10: =1 -> 1 | L10: =IF(tblSteps3[[#This Row],[Step]]<=$O$3,1,NA()) -> #N/A
J11: =ROW()-ROW(tblSteps3[[#Headers],[Step]]) -> 8 | K11: =1 -> 1 | L11: =IF(tblSteps3[[#This Row],[Step]]<=$O$3,1,NA()) -> #N/A
J12: =ROW()-ROW(tblSteps3[[#Headers],[Step]]) -> 9 | K12: =1 -> 1 | L12: =IF(tblSteps3[[#This Row],[Step]]<=$O$3,1,NA()) -> #N/A
J13: =ROW()-ROW(tblSteps3[[#Headers],[Step]]) -> 10 | K13: =1 -> 1 | L13: =IF(tblSteps3[[#This Row],[Step]]<=$O$3,1,NA()) -> #N/A

Sheet Expense Report
F3: Munson's Pickles and Preserves Farm | N3: For office use only
F4: EXPENSE REPORT
Q5: Section | R5: Complete
Q6: 1 | R6: =COUNTA(N7,N8,E7,F8)=4 -> TRUE
D7: Purpose | E7: Tracking travel expenses | L7: Pay period | M7: From | N7: 4/5/xx | Q7: 2 | R7: =COUNTA(E12,E13,I12,I13,M12,M13)=6 -> FALSE
D8: Statement number | F8: 1011 | M8: To | N8: 5/5/xx | Q8: 3 | R8: =N26>0 -> TRUE
Q9: 4 | R9: =COUNTA(E27,I27)=2 -> FALSE
D11: Employee information
D12: Name | E12: Conny Hoffman | H12: Position | I12: Sales manager | L12: SSN/EIN | M12: 123-45-6789
D13: Department | H13: Manager | I13: Cameron Baker | L13: Employee ID | M13: 79461
D15: Date | E15: Account | F15: Description | G15: Hotel | H15: Transport | I15: Fuel | J15: Meals | K15: Phone | L15: Entertainment | M15: Misc | N15: Total
D16: 4/5/XX | E16: 201 | F16: Meeting with Swerve Sandwiches | G16: 150 | H16: N/A | I16: 60 | J16: 45 | K16: N/A | L16: N/A | M16: 5 | N16: =IFERROR(SUM(Expenses[[#This Row],[Hotel]:[Misc]]), "") -> 260
D17: 4/16/XX | E17: 224 | F17: Meeting with Mighty Mealman | G17: 165 | H17: 52 | I17: N/A | J17: 26 | K17: N/A | L17: 150 | M17: N/A | N17: =IFERROR(SUM(Expenses[[#This Row],[Hotel]:[Misc]]), "") -> 393
D18: 5/3/XX | E18: 108 | F18: Local Farmer's Expo | G18: 375 | H18: N/A | I18: 20 | J18: 10 | K18: N/A | L18: N/A | M18: 10 | N18: =IFERROR(SUM(Expenses[[#This Row],[Hotel]:[Misc]]), "") -> 415
N19: =IFERROR(SUM(Expenses[[#This Row],[Hotel]:[Misc]]), "") -> 0
N20: =IFERROR(SUM(Expenses[[#This Row],[Hotel]:[Misc]]), "") -> 0
N21: =IFERROR(SUM(Expenses[[#This Row],[Hotel]:[Misc]]), "") -> 0
N22: =IFERROR(SUM(Expenses[[#This Row],[Hotel]:[Misc]]), "") -> 0
D23: Total | G23: =SUBTOTAL(109,Expenses[Hotel]) -> 690 | H23: =SUBTOTAL(109,Expenses[Transport]) -> 52 | I23: =SUBTOTAL(109,Expenses[Fuel]) -> 80 | J23: =SUBTOTAL(109,Expenses[Meals]) -> 81 | K23: =SUBTOTAL(109,Expenses[Phone]) -> 0 | L23: =SUBTOTAL(109,Expenses[Entertainment]) -> 150 | M23: =SUBTOTAL(109,Expenses[Misc]) -> 15 | N23: =SUBTOTAL(109,Expenses[Total]) -> 1068
M24: Subtotal | N24: =IFERROR(SUM(Expenses[[#Totals],[Total]]), "") -> 1068
M25: Cash advances | N25: 500
M26: Total | N26: =IFERROR((N24-N25), "") -> 568
D27: Approved by | E27: Cameron Baker | H27: Notes

Sheet Steps - Exp Report
A1: 3 | B1: Steps Chart
J3: Step | K3: Grey | L3: Complete | N3: Complete:
J4: =ROW()-ROW(tblSteps36[[#Headers],[Step]]) -> 1 | K4: =1 -> 1 | L4: =IF('Expense Report'!R6,1,NA()) -> 1
J5: =ROW()-ROW(tblSteps36[[#Headers],[Step]]) -> 2 | K5: =1 -> 1 | L5: =IF('Expense Report'!R7,1,NA()) -> #N/A
J6: =ROW()-ROW(tblSteps36[[#Headers],[Step]]) -> 3 | K6: =1 -> 1 | L6: =IF('Expense Report'!R8,1,NA()) -> 1
J7: =ROW()-ROW(tblSteps36[[#Headers],[Step]]) -> 4 | K7: =1 -> 1 | L7: =IF('Expense Report'!R9,1,NA()) -> #N/A

Sheet Donut
A1: 3 | B1: Donut Chart | K1: Chart Data
K2: Complete | L2: 0.85
K3: Remainder | L3: =1-L2 -> 0.15

Sheet Progress Bar
A1: 3 | B1: Progress Bar Chart | K1: Chart Data
L2: Complete | M2: Remainder
K3: Progress | L3: 0.54 | M3: =1-L3 -> 0.46

Sheet Dot
A1: 3 | B1: Dot | I1: Chart Data
I2: Sequence | J2: Grey | K2: Color | L2: Marker | M2: Complete
I3: {=_xlfn.SEQUENCE(20)} -> 1 | J3: {=_xlfn.ANCHORARRAY(I3)*0+1} -> 1 | K3: {=IF(_xlfn.ANCHORARRAY(I3)<=MAX(_xlfn.ANCHORARRAY(I3))*M3,1,NA())} -> 1 | L3: =IFERROR(IF(AND(K3=1,ISERROR(K4)),$M$3,""),"") | M3: 0.45
I4: 2 | J4: 1 | K4: 1 | L4: =IFERROR(IF(AND(K4=1,ISERROR(K5)),$M$3,""),"")
I5: 3 | J5: 1 | K5: 1 | L5: =IFERROR(IF(AND(K5=1,ISERROR(K6)),$M$3,""),"")
I6: 4 | J6: 1 | K6: 1 | L6: =IFERROR(IF(AND(K6=1,ISERROR(K7)),$M$3,""),"")
I7: 5 | J7: 1 | K7: 1 | L7: =IFERROR(IF(AND(K7=1,ISERROR(K8)),$M$3,""),"")
I8: 6 | J8: 1 | K8: 1 | L8: =IFERROR(IF(AND(K8=1,ISERROR(K9)),$M$3,""),"")
I9: 7 | J9: 1 | K9: 1 | L9: =IFERROR(IF(AND(K9=1,ISERROR(K10)),$M$3,""),"")
I10: 8 | J10: 1 | K10: 1 | L10: =IFERROR(IF(AND(K10=1,ISERROR(K11)),$M$3,""),"")
I11: 9 | J11: 1 | K11: 1 | L11: =IFERROR(IF(AND(K11=1,ISERROR(K12)),$M$3,""),"") -> 0.45
I12: 10 | J12: 1 | K12: #N/A | L12: =IFERROR(IF(AND(K12=1,ISERROR(K13)),$M$3,""),"")
I13: 11 | J13: 1 | K13: #N/A | L13: =IFERROR(IF(AND(K13=1,ISERROR(K14)),$M$3,""),"")
I14: 12 | J14: 1 | K14: #N/A | L14: =IFERROR(IF(AND(K14=1,ISERROR(K15)),$M$3,""),"")
I15: 13 | J15: 1 | K15: #N/A | L15: =IFERROR(IF(AND(K15=1,ISERROR(K16)),$M$3,""),"")
I16: 14 | J16: 1 | K16: #N/A | L16: =IFERROR(IF(AND(K16=1,ISERROR(K17)),$M$3,""),"")
I17: 15 | J17: 1 | K17: #N/A | L17: =IFERROR(IF(AND(K17=1,ISERROR(K18)),$M$3,""),"")
I18: 16 | J18: 1 | K18: #N/A | L18: =IFERROR(IF(AND(K18=1,ISERROR(K19)),$M$3,""),"")
I19: 17 | J19: 1 | K19: #N/A | L19: =IFERROR(IF(AND(K19=1,ISERROR(K20)),$M$3,""),"")
I20: 18 | J20: 1 | K20: #N/A | L20: =IFERROR(IF(AND(K20=1,ISERROR(K21)),$M$3,""),"")
I21: 19 | J21: 1 | K21: #N/A | L21: =IFERROR(IF(AND(K21=1,ISERROR(K22)),$M$3,""),"")
I22: 20 | J22: 1 | K22: #N/A | L22: =IFERROR(IF(AND(K22=1,ISERROR(K23)),$M$3,""),"")

Sheet Scorecard
A1: 3 | B1: Scorecard Chart | H1: Chart Data
H2: Step | I2: Step 1 | J2: Step 2 | K2: Step 3 | L2: Step 4 | M2: Step 5
H3: Grey | I3: =IF(I7=1,1,0) -> 0 | J3: =IF(J7=1,1,0) -> 0 | K3: =IF(K7=1,1,0) -> 1 | L3: =IF(L7=1,1,0) -> 0 | M3: =IF(M7=1,1,0) -> 1
H4: Green | I4: =IF(I7=2,1,0) -> 1 | J4: =IF(J7=2,1,0) -> 0 | K4: =IF(K7=2,1,0) -> 0 | L4: =IF(L7=2,1,0) -> 1 | M4: =IF(M7=2,1,0) -> 0
H5: Red | I5: =IF(I7=3,1,0) -> 0 | J5: =IF(J7=3,1,0) -> 1 | K5: =IF(K7=3,1,0) -> 0 | L5: =IF(L7=3,1,0) -> 0 | M5: =IF(M7=3,1,0) -> 0
I7: 2 | J7: 3 | K7: 1 | L7: 2 | M7: 1

Sheet Calendar
A1: 3 | B1: Calendar Chart | H1: Chart Data
I2: Grey | L2: Color | O2: Start Date: | P2: 45078 | U2: Day Labels
H3: Number | I3: X | J3: Y | K3: Date Label | L3: X | M3: Y | O3: Chart Title: | P3: =TEXT(P2,"mmmm yyyy") -> June 2023 | R3: Date | S3: Complete | U3: Day | V3: Value
H4: {=_xlfn.SEQUENCE(42)} -> 1 | I4: 1 | J4: 6 | K4: {=DATE(YEAR($P$2),MONTH($P$2),_xlfn.SEQUENCE(42,1,-MOD(WEEKDAY($P$2,2),7)+1))} -> 45074 | L4: =IF(COUNTIFS($R$4:$R$33,$K4,$S$4:$S$33,"Yes")>0,I4,NA()) -> #N/A | M4: 6 | R4: 45078 | S4: No | U4: S | V4: 0
H5: 2 | I5: 2 | J5: 6 | K5: 45075 | L5: =IF(COUNTIFS($R$4:$R$33,$K5,$S$4:$S$33,"Yes")>0,I5,NA()) -> #N/A | M5: 6 | R5: 45079 | S5: Yes | U5: M | V5: 0
H6: 3 | I6: 3 | J6: 6 | K6: 45076 | L6: =IF(COUNTIFS($R$4:$R$33,$K6,$S$4:$S$33,"Yes")>0,I6,NA()) -> #N/A | M6: 6 | R6: 45080 | S6: No | U6: T | V6: 0
H7: 4 | I7: 4 | J7: 6 | K7: 45077 | L7: =IF(COUNTIFS($R$4:$R$33,$K7,$S$4:$S$33,"Yes")>0,I7,NA()) -> #N/A | M7: 6 | R7: 45081 | S7: Yes | U7: W | V7: 0
H8: 5 | I8: 5 | J8: 6 | K8: 45078 | L8: =IF(COUNTIFS($R$4:$R$33,$K8,$S$4:$S$33,"Yes")>0,I8,NA()) -> #N/A | M8: 6 | R8: 45082 | S8: No | U8: T | V8: 0
H9: 6 | I9: 6 | J9: 6 | K9: 45079 | L9: =IF(COUNTIFS($R$4:$R$33,$K9,$S$4:$S$33,"Yes")>0,I9,NA()) -> 6 | M9: 6 | R9: 45083 | S9: Yes | U9: F | V9: 0
H10: 7 | I10: 7 | J10: 6 | K10: 45080 | L10: =IF(COUNTIFS($R$4:$R$33,$K10,$S$4:$S$33,"Yes")>0,I10,NA()) -> #N/A | M10: 6 | R10: 45084 | S10: No | U10: S | V10: 0
H11: 8 | I11: =I4 -> 1 | J11: =J4-1 -> 5 | K11: 45081 | L11: =IF(COUNTIFS($R$4:$R$33,$K11,$S$4:$S$33,"Yes")>0,I11,NA()) -> 1 | M11: =M4-1 -> 5 | R11: 45085 | S11: No
H12: 9 | I12: =I5 -> 2 | J12: =J5-1 -> 5 | K12: 45082 | L12: =IF(COUNTIFS($R$4:$R$33,$K12,$S$4:$S$33,"Yes")>0,I12,NA()) -> #N/A | M12: =M5-1 -> 5 | R12: 45086 | S12: Yes
H13: 10 | I13: =I6 -> 3 | J13: =J6-1 -> 5 | K13: 45083 | L13: =IF(COUNTIFS($R$4:$R$33,$K13,$S$4:$S$33,"Yes")>0,I13,NA()) -> 3 | M13: =M6-1 -> 5 | R13: 45087 | S13: Yes
H14: 11 | I14: =I7 -> 4 | J14: =J7-1 -> 5 | K14: 45084 | L14: =IF(COUNTIFS($R$4:$R$33,$K14,$S$4:$S$33,"Yes")>0,I14,NA()) -> #N/A | M14: =M7-1 -> 5 | R14: 45088 | S14: Yes
H15: 12 | I15: =I8 -> 5 | J15: =J8-1 -> 5 | K15: 45085 | L15: =IF(COUNTIFS($R$4:$R$33,$K15,$S$4:$S$33,"Yes")>0,I15,NA()) -> #N/A | M15: =M8-1 -> 5 | R15: 45089 | S15: Yes
H16: 13 | I16: =I9 -> 6 | J16: =J9-1 -> 5 | K16: 45086 | L16: =IF(COUNTIFS($R$4:$R$33,$K16,$S$4:$S$33,"Yes")>0,I16,NA()) -> 6 | M16: =M9-1 -> 5 | R16: 45090 | S16: No
H17: 14 | I17: =I10 -> 7 | J17: =J10-1 -> 5 | K17: 45087 | L17: =IF(COUNTIFS($R$4:$R$33,$K17,$S$4:$S$33,"Yes")>0,I17,NA()) -> 7 | M17: =M10-1 -> 5 | R17: 45091 | S17: Yes
H18: 15 | I18: =I11 -> 1 | J18: =J11-1 -> 4 | K18: 45088 | L18: =IF(COUNTIFS($R$4:$R$33,$K18,$S$4:$S$33,"Yes")>0,I18,NA()) -> 1 | M18: =M11-1 -> 4 | R18: 45092 | S18: No
H19: 16 | I19: =I12 -> 2 | J19: =J12-1 -> 4 | K19: 45089 | L19: =IF(COUNTIFS($R$4:$R$33,$K19,$S$4:$S$33,"Yes")>0,I19,NA()) -> 2 | M19: =M12-1 -> 4 | R19: 45093 | S19: Yes
H20: 17 | I20: =I13 -> 3 | J20: =J13-1 -> 4 | K20: 45090 | L20: =IF(COUNTIFS($R$4:$R$33,$K20,$S$4:$S$33,"Yes")>0,I20,NA()) -> #N/A | M20: =M13-1 -> 4 | R20: 45094 | S20: Yes
H21: 18 | I21: =I14 -> 4 | J21: =J14-1 -> 4 | K21: 45091 | L21: =IF(COUNTIFS($R$4:$R$33,$K21,$S$4:$S$33,"Yes")>0,I21,NA()) -> 4 | M21: =M14-1 -> 4 | R21: 45095 | S21: Yes
H22: 19 | I22: =I15 -> 5 | J22: =J15-1 -> 4 | K22: 45092 | L22: =IF(COUNTIFS($R$4:$R$33,$K22,$S$4:$S$33,"Yes")>0,I22,NA()) -> #N/A | M22: =M15-1 -> 4 | R22: 45096 | S22: Yes
... H33: 30 | I33: =I26 -> 2 | J33: =J26-1 -> 2 | K33: 45103 | L33: =IF(COUNTIFS($R$4:$R$33,$K33,$S$4:$S$33,"Yes")>0,I33,NA()) -> #N/A | M33: =M26-1 -> 2 | R33: 45107 | S33: No
H34: 31 | I34: =I27 -> 3 | J34: =J27-1 -> 2 | K34: 45104 | L34: =IF(COUNTIFS($R$4:$R$33,$K34,$S$4:$S$33,"Yes")>0,I34,NA()) -> 3 | M34: =M27-1 -> 2
H35: 32 | I35: =I28 -> 4 | J35: =J28-1 -> 2 | K35: 45105 | L35: =IF(COUNTIFS($R$4:$R$33,$K35,$S$4:$S$33,"Yes")>0,I35,NA()) -> 4 | M35: =M28-1 -> 2
H36: 33 | I36: =I29 -> 5 | J36: =J29-1 -> 2 | K36: 45106 | L36: =IF(COUNTIFS($R$4:$R$33,$K36,$S$4:$S$33,"Yes")>0,I36,NA()) -> 5 | M36: =M29-1 -> 2
H37: 34 | I37: =I30 -> 6 | J37: =J30-1 -> 2 | K37: 45107 | L37: =IF(COUNTIFS($R$4:$R$33,$K37,$S$4:$S$33,"Yes")>0,I37,NA()) -> #N/A | M37: =M30-1 -> 2
H38: 35 | I38: =I31 -> 7 | J38: =J31-1 -> 2 | K38: 45108 | L38: =IF(COUNTIFS($R$4:$R$33,$K38,$S$4:$S$33,"Yes")>0,I38,NA()) -> #N/A | M38: =M31-1 -> 2
H39: 36 | I39: =I32 -> 1 | J39: =J32-1 -> 1 | K39: 45109 | L39: =IF(COUNTIFS($R$4:$R$33,$K39,$S$4:$S$33,"Yes")>0,I39,NA()) -> #N/A | M39: =M32-1 -> 1
H40: 37 | I40: =I33 -> 2 | J40: =J33-1 -> 1 | K40: 45110 | L40: =IF(COUNTIFS($R$4:$R$33,$K40,$S$4:$S$33,"Yes")>0,I40,NA()) -> #N/A | M40: =M33-1 -> 1
H41: 38 | I41: =I34 -> 3 | J41: =J34-1 -> 1 | K41: 45111 | L41: =IF(COUNTIFS($R$4:$R$33,$K41,$S$4:$S$33,"Yes")>0,I41,NA()) -> #N/A | M41: =M34-1 -> 1
H42: 39 | I42: =I35 -> 4 | J42: =J35-1 -> 1 | K42: 45112 | L42: =IF(COUNTIFS($R$4:$R$33,$K42,$S$4:$S$33,"Yes")>0,I42,NA()) -> #N/A | M42: =M35-1 -> 1
H43: 40 | I43: =I36 -> 5 | J43: =J36-1 -> 1 | K43: 45113 | L43: =IF(COUNTIFS($R$4:$R$33,$K43,$S$4:$S$33,"Yes")>0,I43,NA()) -> #N/A | M43: =M36-1 -> 1
H44: 41 | I44: =I37 -> 6 | J44: =J37-1 -> 1 | K44: 45114 | L44: =IF(COUNTIFS($R$4:$R$33,$K44,$S$4:$S$33,"Yes")>0,I44,NA()) -> #N/A | M44: =M37-1 -> 1
H45: 42 | I45: =I38 -> 7 | J45: =J38-1 -> 1 | K45: 45115 | L45: =IF(COUNTIFS($R$4:$R$33,$K45,$S$4:$S$33,"Yes")>0,I45,NA()) -> #N/A | M45: =M38-1 -> 1

Sheet Waffle
A1: 3 | B1: Waffle Chart | G1: Chart Data
H2: Grey | J2: Color | L2: Marker | P2: Complete: | Q2: 0.65
G3: Number | H3: X | I3: Y | J3: X | K3: Y | L3: X | M3: Y | N3: Value | P3: Integer: | Q3: =Q2*100 -> 65
G4: {=_xlfn.SEQUENCE(100)} -> 1 | H4: 1 | I4: 1 | J4: =IF($G4<=$Q$3,H4,NA()) -> 1 | K4: =IF($G4<=$Q$3,I4,NA()) -> 1 | L4: =IF($G4=$Q$4,H4,NA()) -> #N/A | M4: =IF($G4=$Q$4,I4,NA()) -> #N/A | N4: =IF(NOT(ISERROR(M4)),$Q$2,NA()) -> #N/A | P4: Label Row: | Q4: =ROUNDUP(Q3,-1) -> 70
G5: 2 | H5: 2 | I5: 1 | J5: =IF($G5<=$Q$3,H5,NA()) -> 2 | K5: =IF($G5<=$Q$3,I5,NA()) -> 1 | L5: =IF($G5=$Q$4,H5,NA()) -> #N/A | M5: =IF($G5=$Q$4,I5,NA()) -> #N/A | N5: =IF(NOT(ISERROR(M5)),$Q$2,NA()) -> #N/A
G6: 3 | H6: 3 | I6: 1 | J6: =IF($G6<=$Q$3,H6,NA()) -> 3 | K6: =IF($G6<=$Q$3,I6,NA()) -> 1 | L6: =IF($G6=$Q$4,H6,NA()) -> #N/A | M6: =IF($G6=$Q$4,I6,NA()) -> #N/A | N6: =IF(NOT(ISERROR(M6)),$Q$2,NA()) -> #N/A
G7: 4 | H7: 4 | I7: 1 | J7: =IF($G7<=$Q$3,H7,NA()) -> 4 | K7: =IF($G7<=$Q$3,I7,NA()) -> 1 | L7: =IF($G7=$Q$4,H7,NA()) -> #N/A | M7: =IF($G7=$Q$4,I7,NA()) -> #N/A | N7: =IF(NOT(ISERROR(M7)),$Q$2,NA()) -> #N/A
G8: 5 | H8: 5 | I8: 1 | J8: =IF($G8<=$Q$3,H8,NA()) -> 5 | K8: =IF($G8<=$Q$3,I8,NA()) -> 1 | L8: =IF($G8=$Q$4,H8,NA()) -> #N/A | M8: =IF($G8=$Q$4,I8,NA()) -> #N/A | N8: =IF(NOT(ISERROR(M8)),$Q$2,NA()) -> #N/A
G9: 6 | H9: 6 | I9: 1 | J9: =IF($G9<=$Q$3,H9,NA()) -> 6 | K9: =IF($G9<=$Q$3,I9,NA()) -> 1 | L9: =IF($G9=$Q$4,H9,NA()) -> #N/A | M9: =IF($G9=$Q$4,I9,NA()) -> #N/A | N9: =IF(NOT(ISERROR(M9)),$Q$2,NA()) -> #N/A
G10: 7 | H10: 7 | I10: 1 | J10: =IF($G10<=$Q$3,H10,NA()) -> 7 | K10: =IF($G10<=$Q$3,I10,NA()) -> 1 | L10: =IF($G10=$Q$4,H10,NA()) -> #N/A | M10: =IF($G10=$Q$4,I10,NA()) -> #N/A | N10: =IF(NOT(ISERROR(M10)),$Q$2,NA()) -> #N/A
G11: 8 | H11: 8 | I11: 1 | J11: =IF($G11<=$Q$3,H11,NA()) -> 8 | K11: =IF($G11<=$Q$3,I11,NA()) -> 1 | L11: =IF($G11=$Q$4,H11,NA()) -> #N/A | M11: =IF($G11=$Q$4,I11,NA()) -> #N/A | N11: =IF(NOT(ISERROR(M11)),$Q$2,NA()) -> #N/A
G12: 9 | H12: 9 | I12: 1 | J12: =IF($G12<=$Q$3,H12,NA()) -> 9 | K12: =IF($G12<=$Q$3,I12,NA()) -> 1 | L12: =IF($G12=$Q$4,H12,NA()) -> #N/A | M12: =IF($G12=$Q$4,I12,NA()) -> #N/A | N12: =IF(NOT(ISERROR(M12)),$Q$2,NA()) -> #N/A
G13: 10 | H13: 10 | I13: 1 | J13: =IF($G13<=$Q$3,H13,NA()) -> 10 | K13: =IF($G13<=$Q$3,I13,NA()) -> 1 | L13: =IF($G13=$Q$4,H13,NA()) -> #N/A | M13: =IF($G13=$Q$4,I13,NA()) -> #N/A | N13: =IF(NOT(ISERROR(M13)),$Q$2,NA()) -> #N/A
G14: 11 | H14: =H4 -> 1 | I14: =I4+1 -> 2 | J14: =IF($G14<=$Q$3,H14,NA()) -> 1 | K14: =IF($G14<=$Q$3,I14,NA()) -> 2 | L14: =IF($G14=$Q$4,H14,NA()) -> #N/A | M14: =IF($G14=$Q$4,I14,NA()) -> #N/A | N14: =IF(NOT(ISERROR(M14)),$Q$2,NA()) -> #N/A
G15: 12 | H15: =H5 -> 2 | I15: =I5+1 -> 2 | J15: =IF($G15<=$Q$3,H15,NA()) -> 2 | K15: =IF($G15<=$Q$3,I15,NA()) -> 2 | L15: =IF($G15=$Q$4,H15,NA()) -> #N/A | M15: =IF($G15=$Q$4,I15,NA()) -> #N/A | N15: =IF(NOT(ISERROR(M15)),$Q$2,NA()) -> #N/A
G16: 13 | H16: =H6 -> 3 | I16: =I6+1 -> 2 | J16: =IF($G16<=$Q$3,H16,NA()) -> 3 | K16: =IF($G16<=$Q$3,I16,NA()) -> 2 | L16: =IF($G16=$Q$4,H16,NA()) -> #N/A | M16: =IF($G16=$Q$4,I16,NA()) -> #N/A | N16: =IF(NOT(ISERROR(M16)),$Q$2,NA()) -> #N/A
G17: 14 | H17: =H7 -> 4 | I17: =I7+1 -> 2 | J17: =IF($G17<=$Q$3,H17,NA()) -> 4 | K17: =IF($G17<=$Q$3,I17,NA()) -> 2 | L17: =IF($G17=$Q$4,H17,NA()) -> #N/A | M17: =IF($G17=$Q$4,I17,NA()) -> #N/A | N17: =IF(NOT(ISERROR(M17)),$Q$2,NA()) -> #N/A
G18: 15 | H18: =H8 -> 5 | I18: =I8+1 -> 2 | J18: =IF($G18<=$Q$3,H18,NA()) -> 5 | K18: =IF($G18<=$Q$3,I18,NA()) -> 2 | L18: =IF($G18=$Q$4,H18,NA()) -> #N/A | M18: =IF($G18=$Q$4,I18,NA()) -> #N/A | N18: =IF(NOT(ISERROR(M18)),$Q$2,NA()) -> #N/A
G19: 16 | H19: =H9 -> 6 | I19: =I9+1 -> 2 | J19: =IF($G19<=$Q$3,H19,NA()) -> 6 | K19: =IF($G19<=$Q$3,I19,NA()) -> 2 | L19: =IF($G19=$Q$4,H19,NA()) -> #N/A | M19: =IF($G19=$Q$4,I19,NA()) -> #N/A | N19: =IF(NOT(ISERROR(M19)),$Q$2,NA()) -> #N/A
G20: 17 | H20: =H10 -> 7 | I20: =I10+1 -> 2 | J20: =IF($G20<=$Q$3,H20,NA()) -> 7 | K20: =IF($G20<=$Q$3,I20,NA()) -> 2 | L20: =IF($G20=$Q$4,H20,NA()) -> #N/A | M20: =IF($G20=$Q$4,I20,NA()) -> #N/A | N20: =IF(NOT(ISERROR(M20)),$Q$2,NA()) -> #N/A
G21: 18 | H21: =H11 -> 8 | I21: =I11+1 -> 2 | J21: =IF($G21<=$Q$3,H21,NA()) -> 8 | K21: =IF($G21<=$Q$3,I21,NA()) -> 2 | L21: =IF($G21=$Q$4,H21,NA()) -> #N/A | M21: =IF($G21=$Q$4,I21,NA()) -> #N/A | N21: =IF(NOT(ISERROR(M21)),$Q$2,NA()) -> #N/A
G22: 19 | H22: =H12 -> 9 | I22: =I12+1 -> 2 | J22: =IF($G22<=$Q$3,H22,NA()) -> 9 | K22: =IF($G22<=$Q$3,I22,NA()) -> 2 | L22: =IF($G22=$Q$4,H22,NA()) -> #N/A | M22: =IF($G22=$Q$4,I22,NA()) -> #N/A | N22: =IF(NOT(ISERROR(M22)),$Q$2,NA()) -> #N/A
G23: 20 | H23: =H13 -> 10 | I23: =I13+1 -> 2 | J23: =IF($G23<=$Q$3,H23,NA()) -> 10 | K23: =IF($G23<=$Q$3,I23,NA()) -> 2 | L23: =IF($G23=$Q$4,H23,NA()) -> #N/A | M23: =IF($G23=$Q$4,I23,NA()) -> #N/A | N23: =IF(NOT(ISERROR(M23)),$Q$2,NA()) -> #N/A
G24: 21 | H24: =H14 -> 1 | I24: =I14+1 -> 3 | J24: =IF($G24<=$Q$3,H24,NA()) -> 1 | K24: =IF($G24<=$Q$3,I24,NA()) -> 3 | L24: =IF($G24=$Q$4,H24,NA()) -> #N/A | M24: =IF($G24=$Q$4,I24,NA()) -> #N/A | N24: =IF(NOT(ISERROR(M24)),$Q$2,NA()) -> #N/A
G25: 22 | H25: =H15 -> 2 | I25: =I15+1 -> 3 | J25: =IF($G25<=$Q$3,H25,NA()) -> 2 | K25: =IF($G25<=$Q$3,I25,NA()) -> 3 | L25: =IF($G25=$Q$4,H25,NA()) -> #N/A | M25: =IF($G25=$Q$4,I25,NA()) -> #N/A | N25: =IF(NOT(ISERROR(M25)),$Q$2,NA()) -> #N/A
... G103: 100 | H103: =H93 -> 10 | I103: =I93+1 -> 10 | J103: =IF($G103<=$Q$3,H103,NA()) -> #N/A | K103: =IF($G103<=$Q$3,I103,NA()) -> #N/A | L103: =IF($G103=$Q$4,H103,NA()) -> #N/A | M103: =IF($G103=$Q$4,I103,NA()) -> #N/A | N103: =IF(NOT(ISERROR(M103)),$Q$2,NA()) -> #N/A

Sheet Gauge
A1: 3 | B1: Gauge Chart | M1: Sequence | N1: Grey | O1: Color | Q1: Complete: | R1: 0.47
M2: {=_xlfn.SEQUENCE(100)} -> 1 | N2: {=_xlfn.SEQUENCE(100)*0+1} -> 1 | O2: {=IF(_xlfn.ANCHORARRAY(M2)<=(R1*100),1,0)} -> 1
M3: 2 | N3: 1 | O3: 1
M4: 3 | N4: 1 | O4: 1
M5: 4 | N5: 1 | O5: 1
M6: 5 | N6: 1 | O6: 1
M7: 6 | N7: 1 | O7: 1
M8: 7 | N8: 1 | O8: 1
M9: 8 | N9: 1 | O9: 1
M10: 9 | N10: 1 | O10: 1
M11: 10 | N11: 1 | O11: 1
M12: 11 | N12: 1 | O12: 1
M13: 12 | N13: 1 | O13: 1
M14: 13 | N14: 1 | O14: 1
... M101: 100 | N101: 1 | O101: 0
N102: 100 | O102: =200-(R1*100) -> 153

Sheet Dashboard Vertical
A1: 3

Sheet Dashboard Dark Vertical
A1: 3

Sheet Source
A1: Author: | B1: Jon Acampora
A2: Source: | B2: https://www.excelcampus.com/charts/8-types-of-progress-charts/
