Workbook
Name rngCount: OFFSET('4. Dynamic Histogram'!$E$13,1,0,'4. Dynamic Histogram'!$C$7,1)
Name rngGroups: OFFSET('4. Dynamic Histogram'!$D$13,1,0,'4. Dynamic Histogram'!$C$7,1)
Name rngSeasonList: '5. Lists'!$A$2:$A$47
Name Slicer_Group1: #N/A
Name Slicer_Item: #N/A
Name Slicer_Region: #N/A
Name Slicer_Season: #N/A
Name Slicer_Symbol: #N/A

Sheet Welcome

Sheet 10 Charts
A1: 10 Advanced Excel Charts

Sheet 1. Percent Change
A1: Column Chart with Percentage Change | Q1: Column Chart with Percentage Change
C3: 13 | D3: <-Label Spacer
A4: Year | B4: Amount | C4: Year Label | D4: Revenue $K | E4: Invisible Bar | F4: Invisible Bar + | G4: Invisible Bar - | H4: Variance | I4: Var + | J4: Var - | K4: Variance % | L4: Var % + | M4: Var % - | N4: Blank Error
A5: 2011 | B5: =GETPIVOTDATA("Revenue",'1. Pivot'!$A$3,"Year",$A5) -> 148948 | C5: =A5&REPT(" ",$C$3) -> 2011 | D5: =B5 -> 148948 | E5: =$B6 -> 198068 | F5: =$B6 -> 198068 | G5: =$B6 -> 198068 | H5: =B6-B5 -> 49120 | I5: =IF(H5>=0,-H5,"") -> -49120 | J5: =IF(H5<0,H5,"") | K5: =IFERROR((B6-B5)/B5,0) -> 0.32977952 | L5: =IF(K5>=0,K5,"") -> 0.32977952 | M5: =IF(K5<0,K5,"")
A6: 2012 | B6: =GETPIVOTDATA("Revenue",'1. Pivot'!$A$3,"Year",$A6) -> 198068 | C6: =A6&REPT(" ",$C$3) -> 2012 | D6: =B6 -> 198068 | E6: =$B7 -> 176858 | F6: =$B7 -> 176858 | G6: =$B7 -> 176858 | H6: =B7-B6 -> -21210 | I6: =IF(H6>=0,-H6,"") | J6: =IF(H6<0,H6,"") -> -21210 | K6: =IFERROR((B7 - B6)/B6,0) -> -0.10708444 | L6: =IF(K6>=0,K6,"") | M6: =IF(K6<0,K6,"") -> -0.10708444
A7: 2013 | B7: =GETPIVOTDATA("Revenue",'1. Pivot'!$A$3,"Year",$A7) -> 176858 | C7: =A7&REPT(" ",$C$3) -> 2013 | D7: =B7 -> 176858 | E7: =$B8 -> 121785 | F7: =$B8 -> 121785 | G7: =$B8 -> 121785 | H7: =B8-B7 -> -55073 | I7: =IF(H7>=0,-H7,"") | J7: =IF(H7<0,H7,"") -> -55073 | K7: =IFERROR((B8 - B7)/B7,0) -> -0.31139671 | L7: =IF(K7>=0,K7,"") | M7: =IF(K7<0,K7,"") -> -0.31139671
A8: 2014 | B8: =GETPIVOTDATA("Revenue",'1. Pivot'!$A$3,"Year",$A8) -> 121785 | C8: =A8&REPT(" ",$C$3) -> 2014 | D8: =B8 -> 121785 | E8: =$B9 -> 102733 | F8: =$B9 -> 102733 | G8: =$B9 -> 102733 | H8: =B9-B8 -> -19052 | I8: =IF(H8>=0,-H8,"") | J8: =IF(H8<0,H8,"") -> -19052 | K8: =IFERROR((B9 - B8)/B8,0) -> -0.15643963 | L8: =IF(K8>=0,K8,"") | M8: =IF(K8<0,K8,"") -> -0.15643963
A9: 2015 | B9: =GETPIVOTDATA("Revenue",'1. Pivot'!$A$3,"Year",$A9) -> 102733 | C9: =A9&REPT(" ",$C$3) -> 2015 | D9: =B9 -> 102733 | E9: =$B10 -> 153815 | F9: =$B10 -> 153815 | G9: =$B10 -> 153815 | H9: =B10-B9 -> 51082 | I9: =IF(H9>=0,-H9,"") -> -51082 | J9: =IF(H9<0,H9,"") | K9: =IFERROR((B10 - B9)/B9,0) -> 0.49723069 | L9: =IF(K9>=0,K9,"") -> 0.49723069 | M9: =IF(K9<0,K9,"")
A10: 2016 | B10: =GETPIVOTDATA("Revenue",'1. Pivot'!$A$3,"Year",$A10) -> 153815 | C10: =A10&REPT(" ",$C$3) -> 2016 | D10: =B10 -> 153815 | E10: =$B11 -> 206496 | F10: =$B11 -> 206496 | G10: =$B11 -> 206496 | H10: =B11-B10 -> 52681 | I10: =IF(H10>=0,-H10,"") -> -52681 | J10: =IF(H10<0,H10,"") | K10: =IFERROR((B11 - B10)/B10,0) -> 0.34249586 | L10: =IF(K10>=0,K10,"") -> 0.34249586 | M10: =IF(K10<0,K10,"")
A11: 2017 | B11: =GETPIVOTDATA("Revenue",'1. Pivot'!$A$3,"Year",$A11) -> 206496 | C11: =A11&REPT(" ",$C$3) -> 2017 | D11: =B11 -> 206496 | M11: =IF(K11<0,K11,"")
R22: Source: | S22: https://www.excelcampus.com/charts/column-chart-percentage-change/

Sheet 2. Conditional Donut
A1: Conditional Progress Donut Chart
B4: Actual: | C4: =C12/100 -> 1
B6: Level Max | C6: Data Series
A7: Level 1 | B7: 0.75 | C7: =IF(C$4<=$B$7,C$4," ")
A8: Level 2 | B8: 0.95 | C8: =IF(AND(C$4>$B7,C$4<=$B8),C$4," ")
A9: Level 3 | B9: 1 | C9: =IF(C$4>$B8,C$4," ") -> 1
B10: Remainder: | C10: =MAX(1,C4)-C4 -> 0
B12: Control Link: | C12: 100
E21: Source: | F21: https://www.excelcampus.com/charts/progress-doughnut-chart/

Sheet 3. Histogram with Details
A1: Interactive Histogram with Details
J3: Employee | K3: Monthly Bill
J4: Galena Stevens | K4: 592
J5: Kaden Clayton | K5: 538
J6: Rana Rollins | K6: 503
J7: Stewart Orr | K7: 504
J8: Yoshi Harrington | K8: 522
J9: Grand Total | K9: 2659
B23: Source: | C23: https://www.excelcampus.com/charts/interactive-histogram-with-group-details/

Sheet 4. Dynamic Histogram
H1: Dynamic Histogram or Frequency Distribution Chart
B3: Group Parameters
B4: Parameter | C4: Value | D4: Description
B5: Min | C5: =MIN(tblHistData[Age]) -> 10 | D5: Minimum value in the data set
B6: Max | C6: =MAX(tblHistData[Age]) -> 80 | D6: Maximum value oin the data set
B7: Bin Count | C7: =C8 -> 2 | D7: Total number of groups/bins
B8: Scrollbar Link | C8: 2 | D8: Cell link to the scrollbar value
B9: Bin Size | C9: =ROUNDUP((C6-C5)/C7,0) -> 35 | D9: Size or range of each group
B10: Chart Title | C10: Count of Volunteers by Age Group
B12: Chart Data
B13: Row | C13: Bins Array | D13: Bin Name | E13: Frequency
B14: 1 | C14: =C5+C9-1 -> 44 | D14: =$C$5 &"-"& C14 -> 10-44 | E14: {=FREQUENCY(tblHistData[Age],C14:C23)} -> 64
B15: 2 | C15: =IF(B15>=$C$7,$C$6,C14+$C$9) -> 80 | D15: =C14+1 &"-"& C15 -> 45-80 | E15: 36
B16: 3 | C16: =IF(B16>=$C$7,$C$6,C15+$C$9) -> 80 | D16: =C15+1 &"-"& C16 -> 81-80 | E16: 0
B17: 4 | C17: =IF(B17>=$C$7,$C$6,C16+$C$9) -> 80 | D17: =C16+1 &"-"& C17 -> 81-80 | E17: 0
B18: 5 | C18: =IF(B18>=$C$7,$C$6,C17+$C$9) -> 80 | D18: =C17+1 &"-"& C18 -> 81-80 | E18: 0
B19: 6 | C19: =IF(B19>=$C$7,$C$6,C18+$C$9) -> 80 | D19: =C18+1 &"-"& C19 -> 81-80 | E19: 0
B20: 7 | C20: =IF(B20>=$C$7,$C$6,C19+$C$9) -> 80 | D20: =C19+1 &"-"& C20 -> 81-80 | E20: 0
B21: 8 | C21: =IF(B21>=$C$7,$C$6,C20+$C$9) -> 80 | D21: =C20+1 &"-"& C21 -> 81-80 | E21: 0
B22: 9 | C22: =IF(B22>=$C$7,$C$6,C21+$C$9) -> 80 | D22: =C21+1 &"-"& C22 -> 81-80 | E22: 0 | I22: Source: | J22: https://www.excelcampus.com/charts/dynamic-histogram/
B23: 10 | C23: =IF(B23>=$C$7,$C$6,C22+$C$9) -> 80 | D23: =C22+1 &"-"& C23 -> 81-80 | E23: 0
B24: Total | E24: =SUM(E14:E23) -> 100
B25: Table Count | E25: =COUNT(tblHistData[Age]) -> 100
B26: Variance | E26: =E24-E25 -> 0
B30: Icon Chart Data
B31: 6 | C31: 4
B32: 4 | C32: 6
C33: 3
C34: 8
C35: 5

Sheet 5. Annual & Monthly
A1: Annual Trend with Monthly Details Dashboard
B29: Source: | C29: https://www.excelcampus.com/charts/monthly-average-vs-current-year/

Sheet 6. Waterfall Dashboard
A1: Interactive Waterfall Chart
B29: Source: | C29: http://www.excelcampus.com/charts/waterfall-chart-dashboard/

Sheet 7. Variance on Clustered
A1: Variance on Clustered Charts
B53: Source: | C53: https://www.excelcampus.com/charts/variance-clustered-column-bar-chart/
B62: Data Table | F62: Additional Chart Data
A63: Chart Data: | B63: Categories | C63: Series 1 | D63: Series 2 | F63: Series 3 | G63: Series 4 | H63: Series 5
B64: Region | C64: Budget | D64: Actual | E64: Variance | F64: Base Variance | G64: Positive Variance | H64: Negative Variance
B65: North | C65: 1300 | D65: 1600 | E65: =D65-C65 -> 300 | F65: =MIN(C65:D65) -> 1300 | G65: =IF(E65>0,E65,"") -> 300 | H65: =IF(E65<0,ABS(E65),"")
B66: South | C66: 1750 | D66: 1500 | E66: =D66-C66 -> -250 | F66: =MIN(C66:D66) -> 1500 | G66: =IF(E66>0,E66,"") | H66: =IF(E66<0,ABS(E66),"") -> 250
B67: East | C67: 1100 | D67: 1500 | E67: =D67-C67 -> 400 | F67: =MIN(C67:D67) -> 1100 | G67: =IF(E67>0,E67,"") -> 400 | H67: =IF(E67<0,ABS(E67),"")
B68: West | C68: 2050 | D68: 2250 | E68: =D68-C68 -> 200 | F68: =MIN(C68:D68) -> 2050 | G68: =IF(E68>0,E68,"") -> 200 | H68: =IF(E68<0,ABS(E68),"")

Sheet 8. Actual vs Target
A1: Actual vs. Multiple Targets Chart
B26: Source: | C26: https://www.excelcampus.com/charts/actual-vs-target-chart/
A36: Chart Data
A37: Region | B37: Actual | C37: Budget | D37: Forecast | E37: Max Invisible | F37: Max Outline
A38: North | B38: 120 | C38: 200 | D38: 85 | E38: =MAX($B$38:$D$41)+50 -> 450 | F38: =$E$38 -> 450
A39: South | B39: 310 | C39: 300 | D39: 325 | E39: =$E$38 -> 450 | F39: =$E$38 -> 450
A40: East | B40: 175 | C40: 400 | D40: 250 | E40: =$E$38 -> 450 | F40: =$E$38 -> 450
A41: West | B41: 125 | C41: 200 | D41: 200 | E41: =$E$38 -> 450 | F41: =$E$38 -> 450

Sheet 8. Actual vs Goal Pct
A1: Actual vs. Multiple Targets with Percent of Goal
A35: Chart Data
A36: Region | B36: Actual | C36: Budget | D36: Forecast | E36: Max Invisible | F36: Max Outline | G36: Act/Bdgt | H36: Act/Fcst
A37: North | B37: 120 | C37: 200 | D37: 85 | E37: =MAX($B$37:$D$40)+50 -> 450 | F37: =$E$37 -> 450 | G37: =$B37/C37 -> 0.6 | H37: =$B37/D37 -> 1.4117647
A38: South | B38: 310 | C38: 300 | D38: 325 | E38: =$E$37 -> 450 | F38: =$E$37 -> 450 | G38: =$B38/C38 -> 1.0333333 | H38: =$B38/D38 -> 0.95384615
A39: East | B39: 175 | C39: 400 | D39: 250 | E39: =$E$37 -> 450 | F39: =$E$37 -> 450 | G39: =$B39/C39 -> 0.4375 | H39: =$B39/D39 -> 0.7
A40: West | B40: 125 | C40: 200 | D40: 200 | E40: =$E$37 -> 450 | F40: =$E$37 -> 450 | G40: =$B40/C40 -> 0.625 | H40: =$B40/D40 -> 0.625

Sheet 9. Dynamic Labels
P1: Stacked Bar with Dynamic Data Labels
B3: Chart Data | Q3: Dark Theme
B4: Region | C4: Jan | D4: Feb | E4: Mar | F4: Apr | G4: May | H4: Jun | I4: Jul | J4: Aug | K4: Sep | L4: Oct | M4: Nov | N4: Dec
B5: East | C5: 8625 | D5: 6750 | E5: 7125 | F5: 7125 | G5: 7750 | H5: 7625 | I5: 6500 | J5: 7000 | K5: 8875 | L5: 7250 | M5: 8250 | N5: 9375
B6: North | C6: 13200 | D6: 12400 | E6: 9200 | F6: 12400 | G6: 14000 | H6: 13200 | I6: 13800 | J6: 10800 | K6: 12400 | L6: 12400 | M6: 13000 | N6: 11000
B7: South | C7: 9950 | D7: 6650 | E7: 7250 | F7: 9200 | G7: 8750 | H7: 7700 | I7: 6950 | J7: 9350 | K7: 9950 | L7: 9650 | M7: 6950 | N7: 10550
B8: West | C8: 2610 | D8: 2650 | E8: 2610 | F8: 2570 | G8: 2570 | H8: 2800 | I8: 2570 | J8: 2610 | K8: 2910 | L8: 2550 | M8: 2550 | N8: 2560
B9: Total | C9: =SUM(C5:C8) -> 34385 | D9: =SUM(D5:D8) -> 28450 | E9: =SUM(E5:E8) -> 26185 | F9: =SUM(F5:F8) -> 31295 | G9: =SUM(G5:G8) -> 33070 | H9: =SUM(H5:H8) -> 31325 | I9: =SUM(I5:I8) -> 29820 | J9: =SUM(J5:J8) -> 29760 | ... N9: =SUM(N5:N8) -> 33485
B12: Labels
B14: $ Amount
B15: =B$4 -> Region | C15: =C$4 -> Jan | D15: =D$4 -> Feb | E15: =E$4 -> Mar | F15: =F$4 -> Apr | G15: =G$4 -> May | H15: =H$4 -> Jun | I15: =I$4 -> Jul | ... N15: =N$4 -> Dec
B16: =$B$5 -> East | C16: =TEXT(C5,"$#,###") -> $8,625 | D16: =TEXT(D5,"$#,###") -> $6,750 | E16: =TEXT(E5,"$#,###") -> $7,125 | F16: =TEXT(F5,"$#,###") -> $7,125 | G16: =TEXT(G5,"$#,###") -> $7,750 | H16: =TEXT(H5,"$#,###") -> $7,625 | I16: =TEXT(I5,"$#,###") -> $6,500 | J16: =TEXT(J5,"$#,###") -> $7,000 | ... N16: =TEXT(N5,"$#,###") -> $9,375
B17: =$B$6 -> North | C17: =TEXT(C6,"$#,###") -> $13,200 | D17: =TEXT(D6,"$#,###") -> $12,400 | E17: =TEXT(E6,"$#,###") -> $9,200 | F17: =TEXT(F6,"$#,###") -> $12,400 | G17: =TEXT(G6,"$#,###") -> $14,000 | H17: =TEXT(H6,"$#,###") -> $13,200 | I17: =TEXT(I6,"$#,###") -> $13,800 | J17: =TEXT(J6,"$#,###") -> $10,800 | ... N17: =TEXT(N6,"$#,###") -> $11,000
B18: =$B$7 -> South | C18: =TEXT(C7,"$#,###") -> $9,950 | D18: =TEXT(D7,"$#,###") -> $6,650 | E18: =TEXT(E7,"$#,###") -> $7,250 | F18: =TEXT(F7,"$#,###") -> $9,200 | G18: =TEXT(G7,"$#,###") -> $8,750 | H18: =TEXT(H7,"$#,###") -> $7,700 | I18: =TEXT(I7,"$#,###") -> $6,950 | J18: =TEXT(J7,"$#,###") -> $9,350 | ... N18: =TEXT(N7,"$#,###") -> $10,550
B19: =$B$8 -> West | C19: =TEXT(C8,"$#,###") -> $2,610 | D19: =TEXT(D8,"$#,###") -> $2,650 | E19: =TEXT(E8,"$#,###") -> $2,610 | F19: =TEXT(F8,"$#,###") -> $2,570 | G19: =TEXT(G8,"$#,###") -> $2,570 | H19: =TEXT(H8,"$#,###") -> $2,800 | I19: =TEXT(I8,"$#,###") -> $2,570 | J19: =TEXT(J8,"$#,###") -> $2,610 | ... N19: =TEXT(N8,"$#,###") -> $2,560
B20: Total | C20: =TEXT(C9,"$#,###") -> $34,385 | D20: =TEXT(D9,"$#,###") -> $28,450 | E20: =TEXT(E9,"$#,###") -> $26,185 | F20: =TEXT(F9,"$#,###") -> $31,295 | G20: =TEXT(G9,"$#,###") -> $33,070 | H20: =TEXT(H9,"$#,###") -> $31,325 | I20: =TEXT(I9,"$#,###") -> $29,820 | J20: =TEXT(J9,"$#,###") -> $29,760 | ... N20: =TEXT(N9,"$#,###") -> $33,485
B22: % of Total
B23: =B$4 -> Region | C23: =C$4 -> Jan | D23: =D$4 -> Feb | E23: =E$4 -> Mar | F23: =F$4 -> Apr | G23: =G$4 -> May | H23: =H$4 -> Jun | I23: =I$4 -> Jul | ... N23: =N$4 -> Dec
B24: =$B$5 -> East | C24: =TEXT(IFERROR(C5/C$9,0),"0.0%") -> 25.1% | D24: =TEXT(IFERROR(D5/D$9,0),"0.0%") -> 23.7% | E24: =TEXT(IFERROR(E5/E$9,0),"0.0%") -> 27.2% | F24: =TEXT(IFERROR(F5/F$9,0),"0.0%") -> 22.8% | G24: =TEXT(IFERROR(G5/G$9,0),"0.0%") -> 23.4% | H24: =TEXT(IFERROR(H5/H$9,0),"0.0%") -> 24.3% | I24: =TEXT(IFERROR(I5/I$9,0),"0.0%") -> 21.8% | J24: =TEXT(IFERROR(J5/J$9,0),"0.0%") -> 23.5% | ... N24: =TEXT(IFERROR(N5/N$9,0),"0.0%") -> 28.0%
B25: =$B$6 -> North | C25: =TEXT(IFERROR(C6/C$9,0),"0.0%") -> 38.4% | D25: =TEXT(IFERROR(D6/D$9,0),"0.0%") -> 43.6% | E25: =TEXT(IFERROR(E6/E$9,0),"0.0%") -> 35.1% | F25: =TEXT(IFERROR(F6/F$9,0),"0.0%") -> 39.6% | G25: =TEXT(IFERROR(G6/G$9,0),"0.0%") -> 42.3% | H25: =TEXT(IFERROR(H6/H$9,0),"0.0%") -> 42.1% | I25: =TEXT(IFERROR(I6/I$9,0),"0.0%") -> 46.3% | J25: =TEXT(IFERROR(J6/J$9,0),"0.0%") -> 36.3% | ... N25: =TEXT(IFERROR(N6/N$9,0),"0.0%") -> 32.9% | Q25: Light Theme
B26: =$B$7 -> South | C26: =TEXT(IFERROR(C7/C$9,0),"0.0%") -> 28.9% | D26: =TEXT(IFERROR(D7/D$9,0),"0.0%") -> 23.4% | E26: =TEXT(IFERROR(E7/E$9,0),"0.0%") -> 27.7% | F26: =TEXT(IFERROR(F7/F$9,0),"0.0%") -> 29.4% | G26: =TEXT(IFERROR(G7/G$9,0),"0.0%") -> 26.5% | H26: =TEXT(IFERROR(H7/H$9,0),"0.0%") -> 24.6% | I26: =TEXT(IFERROR(I7/I$9,0),"0.0%") -> 23.3% | J26: =TEXT(IFERROR(J7/J$9,0),"0.0%") -> 31.4% | ... N26: =TEXT(IFERROR(N7/N$9,0),"0.0%") -> 31.5%
B27: =$B$8 -> West | C27: =TEXT(IFERROR(C8/C$9,0),"0.0%") -> 7.6% | D27: =TEXT(IFERROR(D8/D$9,0),"0.0%") -> 9.3% | E27: =TEXT(IFERROR(E8/E$9,0),"0.0%") -> 10.0% | F27: =TEXT(IFERROR(F8/F$9,0),"0.0%") -> 8.2% | G27: =TEXT(IFERROR(G8/G$9,0),"0.0%") -> 7.8% | H27: =TEXT(IFERROR(H8/H$9,0),"0.0%") -> 8.9% | I27: =TEXT(IFERROR(I8/I$9,0),"0.0%") -> 8.6% | J27: =TEXT(IFERROR(J8/J$9,0),"0.0%") -> 8.8% | ... N27: =TEXT(IFERROR(N8/N$9,0),"0.0%") -> 7.6%
B28: Total | C28: =TEXT(IFERROR(C9/C$9,0),"0.0%") -> 100.0% | D28: =TEXT(IFERROR(D9/D$9,0),"0.0%") -> 100.0% | E28: =TEXT(IFERROR(E9/E$9,0),"0.0%") -> 100.0% | F28: =TEXT(IFERROR(F9/F$9,0),"0.0%") -> 100.0% | G28: =TEXT(IFERROR(G9/G$9,0),"0.0%") -> 100.0% | H28: =TEXT(IFERROR(H9/H$9,0),"0.0%") -> 100.0%
B30: % Change
B31: =B$4 -> Region | C31: =C$4 -> Jan | D31: =D$4 -> Feb | E31: =E$4 -> Mar | F31: =F$4 -> Apr | G31: =G$4 -> May | H31: =H$4 -> Jun | I31: =I$4 -> Jul | ... N31: =N$4 -> Dec
B32: =$B$5 -> East | D32: =TEXT(IFERROR((D5-C5)/C5,0),"0.0%") -> -21.7% | E32: =TEXT(IFERROR((E5-D5)/D5,0),"0.0%") -> 5.6% | F32: =TEXT(IFERROR((F5-E5)/E5,0),"0.0%") -> 0.0% | G32: =TEXT(IFERROR((G5-F5)/F5,0),"0.0%") -> 8.8% | H32: =TEXT(IFERROR((H5-G5)/G5,0),"0.0%") -> -1.6% | I32: =TEXT(IFERROR((I5-H5)/H5,0),"0.0%") -> -14.8% | J32: =TEXT(IFERROR((J5-I5)/I5,0),"0.0%") -> 7.7% | K32: =TEXT(IFERROR((K5-J5)/J5,0),"0.0%") -> 26.8% | ... N32: =TEXT(IFERROR((N5-M5)/M5,0),"0.0%") -> 13.6%
B33: =$B$6 -> North | D33: =TEXT(IFERROR((D6-C6)/C6,0),"0.0%") -> -6.1% | E33: =TEXT(IFERROR((E6-D6)/D6,0),"0.0%") -> -25.8% | F33: =TEXT(IFERROR((F6-E6)/E6,0),"0.0%") -> 34.8% | G33: =TEXT(IFERROR((G6-F6)/F6,0),"0.0%") -> 12.9% | H33: =TEXT(IFERROR((H6-G6)/G6,0),"0.0%") -> -5.7% | I33: =TEXT(IFERROR((I6-H6)/H6,0),"0.0%") -> 4.5% | J33: =TEXT(IFERROR((J6-I6)/I6,0),"0.0%") -> -21.7% | K33: =TEXT(IFERROR((K6-J6)/J6,0),"0.0%") -> 14.8% | ... N33: =TEXT(IFERROR((N6-M6)/M6,0),"0.0%") -> -15.4%
B34: =$B$7 -> South | D34: =TEXT(IFERROR((D7-C7)/C7,0),"0.0%") -> -33.2% | E34: =TEXT(IFERROR((E7-D7)/D7,0),"0.0%") -> 9.0% | F34: =TEXT(IFERROR((F7-E7)/E7,0),"0.0%") -> 26.9% | G34: =TEXT(IFERROR((G7-F7)/F7,0),"0.0%") -> -4.9% | H34: =TEXT(IFERROR((H7-G7)/G7,0),"0.0%") -> -12.0% | I34: =TEXT(IFERROR((I7-H7)/H7,0),"0.0%") -> -9.7% | J34: =TEXT(IFERROR((J7-I7)/I7,0),"0.0%") -> 34.5% | K34: =TEXT(IFERROR((K7-J7)/J7,0),"0.0%") -> 6.4% | ... N34: =TEXT(IFERROR((N7-M7)/M7,0),"0.0%") -> 51.8%
B35: =$B$8 -> West | D35: =TEXT(IFERROR((D8-C8)/C8,0),"0.0%") -> 1.5% | E35: =TEXT(IFERROR((E8-D8)/D8,0),"0.0%") -> -1.5% | F35: =TEXT(IFERROR((F8-E8)/E8,0),"0.0%") -> -1.5% | G35: =TEXT(IFERROR((G8-F8)/F8,0),"0.0%") -> 0.0% | H35: =TEXT(IFERROR((H8-G8)/G8,0),"0.0%") -> 8.9% | I35: =TEXT(IFERROR((I8-H8)/H8,0),"0.0%") -> -8.2% | J35: =TEXT(IFERROR((J8-I8)/I8,0),"0.0%") -> 1.6% | K35: =TEXT(IFERROR((K8-J8)/J8,0),"0.0%") -> 11.5% | ... N35: =TEXT(IFERROR((N8-M8)/M8,0),"0.0%") -> 0.4%
B36: Total | D36: =TEXT(IFERROR((D9-C9)/C9,0),"0.0%") -> -17.3% | E36: =TEXT(IFERROR((E9-D9)/D9,0),"0.0%") -> -8.0% | F36: =TEXT(IFERROR((F9-E9)/E9,0),"0.0%") -> 19.5% | G36: =TEXT(IFERROR((G9-F9)/F9,0),"0.0%") -> 5.7% | H36: =TEXT(IFERROR((H9-G9)/G9,0),"0.0%") -> -5.3%
B38: Selected Label
B39: Index: | C39: ='9. Slicer Pivot'!$G$2 -> 3 | D39: ="Labels: "&'9. Slicer Pivot'!$F$2 -> Labels: % Change MoM
B40: =B$4 -> Region | C40: =C$4 -> Jan | D40: =D$4 -> Feb | E40: =E$4 -> Mar | F40: =F$4 -> Apr | G40: =G$4 -> May | H40: =H$4 -> Jun | I40: =I$4 -> Jul | ... N40: =N$4 -> Dec
B41: =$B$5 -> East | C41: =CHOOSE($C$39,C16,C24,"") | D41: =CHOOSE($C$39,D16,D24,D32) -> -21.7% | E41: =CHOOSE($C$39,E16,E24,E32) -> 5.6% | F41: =CHOOSE($C$39,F16,F24,F32) -> 0.0% | G41: =CHOOSE($C$39,G16,G24,G32) -> 8.8% | H41: =CHOOSE($C$39,H16,H24,H32) -> -1.6% | I41: =CHOOSE($C$39,I16,I24,I32) -> -14.8% | J41: =CHOOSE($C$39,J16,J24,J32) -> 7.7% | K41: =CHOOSE($C$39,K16,K24,K32) -> 26.8% | ... N41: =CHOOSE($C$39,N16,N24,N32) -> 13.6%
B42: =$B$6 -> North | C42: =CHOOSE($C$39,C17,C25,"") | D42: =CHOOSE($C$39,D17,D25,D33) -> -6.1% | E42: =CHOOSE($C$39,E17,E25,E33) -> -25.8% | F42: =CHOOSE($C$39,F17,F25,F33) -> 34.8% | G42: =CHOOSE($C$39,G17,G25,G33) -> 12.9% | H42: =CHOOSE($C$39,H17,H25,H33) -> -5.7% | I42: =CHOOSE($C$39,I17,I25,I33) -> 4.5% | J42: =CHOOSE($C$39,J17,J25,J33) -> -21.7% | K42: =CHOOSE($C$39,K17,K25,K33) -> 14.8% | ... N42: =CHOOSE($C$39,N17,N25,N33) -> -15.4%
B43: =$B$7 -> South | C43: =CHOOSE($C$39,C18,C26,"") | D43: =CHOOSE($C$39,D18,D26,D34) -> -33.2% | E43: =CHOOSE($C$39,E18,E26,E34) -> 9.0% | F43: =CHOOSE($C$39,F18,F26,F34) -> 26.9% | G43: =CHOOSE($C$39,G18,G26,G34) -> -4.9% | H43: =CHOOSE($C$39,H18,H26,H34) -> -12.0% | I43: =CHOOSE($C$39,I18,I26,I34) -> -9.7% | J43: =CHOOSE($C$39,J18,J26,J34) -> 34.5% | K43: =CHOOSE($C$39,K18,K26,K34) -> 6.4% | ... N43: =CHOOSE($C$39,N18,N26,N34) -> 51.8%
B44: =$B$8 -> West | C44: =CHOOSE($C$39,C19,C27,"") | D44: =CHOOSE($C$39,D19,D27,D35) -> 1.5% | E44: =CHOOSE($C$39,E19,E27,E35) -> -1.5% | F44: =CHOOSE($C$39,F19,F27,F35) -> -1.5% | G44: =CHOOSE($C$39,G19,G27,G35) -> 0.0% | H44: =CHOOSE($C$39,H19,H27,H35) -> 8.9% | I44: =CHOOSE($C$39,I19,I27,I35) -> -8.2% | J44: =CHOOSE($C$39,J19,J27,J35) -> 1.6% | K44: =CHOOSE($C$39,K19,K27,K35) -> 11.5% | ... N44: =CHOOSE($C$39,N19,N27,N35) -> 0.4%
B45: Total | C45: =CHOOSE($C$39,C20,C28,"") | D45: =CHOOSE($C$39,D20,D28,D36) -> -17.3% | E45: =CHOOSE($C$39,E20,E28,E36) -> -8.0% | F45: =CHOOSE($C$39,F20,F28,F36) -> 19.5% | G45: =CHOOSE($C$39,G20,G28,G36) -> 5.7% | H45: =CHOOSE($C$39,H20,H28,H36) -> -5.3%
Q46: Gradient Theme
Q68: Source: | R68: https://www.excelcampus.com/charts/dynamic-chart-data-labels-slicers/

Sheet 10. Comparative Distribution
A1: Comparative Distribution Chart
B25: Source: | C25: https://www.excelcampus.com/charts/comparative-distribution-chart-histogram-box-plot-alternative/
B38: Original Chart Data
B39: Item Label | C39: Segment 1 | D39: Segment 2 | E39: Segment 3 | F39: Segment 4 | G39: Segment 5
B40: Product 1 | C40: 322 | D40: 330 | E40: 373 | F40: 362 | G40: 362
B41: Product 2 | C41: 392 | D41: 446 | E41: 367 | F41: 346 | G41: 407
B42: Product 3 | C42: 875 | D42: 804 | E42: 708 | F42: 820 | G42: 856
B43: Product 4 | C43: 621 | D43: 848 | E43: 840 | F43: 847 | G43: 780
B44: Product 5 | C44: 529 | D44: 678 | E44: 691 | F44: 599 | G44: 522
B45: Product 6 | C45: 110 | D45: 377 | E45: 131 | F45: 396 | G45: 342
B46: Product 7 | C46: 553 | D46: 967 | E46: 942 | F46: 995 | G46: 956
B47: Product 8 | C47: 210 | D47: 234 | E47: 224 | F47: 292 | G47: 239
B48: Product 9 | C48: 119 | D48: 103 | E48: 272 | F48: 204 | G48: 144
B49: Product 10 | C49: 843 | D49: 926 | E49: 819 | F49: 945 | G49: 893
B52: 1. Add Columns to the Chart Data and create the Range Bar Table
B54: Modified Chart Data | N54: Range Bar (Horizontal Line)
B55: Item Label | C55: Y Value | D55: Segment 1 | E55: Segment 2 | F55: Segment 3 | G55: Segment 4 | H55: Segment 5 | I55: Min | J55: Max | K55: X Item Label | L55: Segment 1 Label | N55: Range | O55: Range Y | P55: Range X
B56: Product 3 | C56: =ROW()-ROW($C$55) -> 1 | D56: 875 | E56: 804 | F56: 708 | G56: 820 | H56: 856 | I56: =MIN(D56:H56) -> 708 | J56: =MAX(D56:H56) -> 875 | K56: 0 | L56: =D56 -> 875 | N56: min | O56: 1 | P56: =VLOOKUP(O56,$C$56:$J$65,MATCH($I$55,$C$55:$J$55,0),FALSE) -> 708
B57: Product 10 | C57: =ROW()-ROW($C$55) -> 2 | D57: 843 | E57: 926 | F57: 819 | G57: 945 | H57: 893 | I57: =MIN(D57:H57) -> 819 | J57: =MAX(D57:H57) -> 945 | K57: 0 | L57: =D57 -> 843 | N57: max | O57: 1 | P57: =VLOOKUP(O57,$C$56:$J$65,MATCH($J$55,$C$55:$J$55,0),FALSE) -> 875
B58: Product 4 | C58: =ROW()-ROW($C$55) -> 3 | D58: 621 | E58: 848 | F58: 840 | G58: 847 | H58: 780 | I58: =MIN(D58:H58) -> 621 | J58: =MAX(D58:H58) -> 848 | K58: 0 | L58: =D58 -> 621 | N58: skip
B59: Product 7 | C59: =ROW()-ROW($C$55) -> 4 | D59: 553 | E59: 967 | F59: 942 | G59: 995 | H59: 956 | I59: =MIN(D59:H59) -> 553 | J59: =MAX(D59:H59) -> 995 | K59: 0 | L59: =D59 -> 553 | N59: min | O59: =O56+1 -> 2 | P59: =VLOOKUP(O59,$C$56:$J$65,MATCH($I$55,$C$55:$J$55,0),FALSE) -> 819
B60: Product 5 | C60: =ROW()-ROW($C$55) -> 5 | D60: 529 | E60: 678 | F60: 691 | G60: 599 | H60: 522 | I60: =MIN(D60:H60) -> 522 | J60: =MAX(D60:H60) -> 691 | K60: 0 | L60: =D60 -> 529 | N60: max | O60: =O57+1 -> 2 | P60: =VLOOKUP(O60,$C$56:$J$65,MATCH($J$55,$C$55:$J$55,0),FALSE) -> 945
B61: Product 2 | C61: =ROW()-ROW($C$55) -> 6 | D61: 392 | E61: 446 | F61: 367 | G61: 346 | H61: 407 | I61: =MIN(D61:H61) -> 346 | J61: =MAX(D61:H61) -> 446 | K61: 0 | L61: =D61 -> 392 | N61: skip
B62: Product 1 | C62: =ROW()-ROW($C$55) -> 7 | D62: 322 | E62: 330 | F62: 373 | G62: 362 | H62: 362 | I62: =MIN(D62:H62) -> 322 | J62: =MAX(D62:H62) -> 373 | K62: 0 | L62: =D62 -> 322 | N62: min | O62: =O59+1 -> 3 | P62: =VLOOKUP(O62,$C$56:$J$65,MATCH($I$55,$C$55:$J$55,0),FALSE) -> 621
B63: Product 8 | C63: =ROW()-ROW($C$55) -> 8 | D63: 210 | E63: 234 | F63: 224 | G63: 292 | H63: 239 | I63: =MIN(D63:H63) -> 210 | J63: =MAX(D63:H63) -> 292 | K63: 0 | L63: =D63 -> 210 | N63: max | O63: =O60+1 -> 3 | P63: =VLOOKUP(O63,$C$56:$J$65,MATCH($J$55,$C$55:$J$55,0),FALSE) -> 848
B64: Product 9 | C64: =ROW()-ROW($C$55) -> 9 | D64: 119 | E64: 103 | F64: 272 | G64: 204 | H64: 144 | I64: =MIN(D64:H64) -> 103 | J64: =MAX(D64:H64) -> 272 | K64: 0 | L64: =D64 -> 119 | N64: skip
B65: Product 6 | C65: =ROW()-ROW($C$55) -> 10 | D65: 110 | E65: 377 | F65: 131 | G65: 396 | H65: 342 | I65: =MIN(D65:H65) -> 110 | J65: =MAX(D65:H65) -> 396 | K65: 0 | L65: =D65 -> 110 | N65: min | O65: =O62+1 -> 4 | P65: =VLOOKUP(O65,$C$56:$J$65,MATCH($I$55,$C$55:$J$55,0),FALSE) -> 553
N66: max | O66: =O63+1 -> 4 | P66: =VLOOKUP(O66,$C$56:$J$65,MATCH($J$55,$C$55:$J$55,0),FALSE) -> 995
N67: skip
N68: min | O68: =O65+1 -> 5 | P68: =VLOOKUP(O68,$C$56:$J$65,MATCH($I$55,$C$55:$J$55,0),FALSE) -> 522
N69: max | O69: =O66+1 -> 5 | P69: =VLOOKUP(O69,$C$56:$J$65,MATCH($J$55,$C$55:$J$55,0),FALSE) -> 691
N70: skip
N71: min | O71: =O68+1 -> 6 | P71: =VLOOKUP(O71,$C$56:$J$65,MATCH($I$55,$C$55:$J$55,0),FALSE) -> 346
N72: max | O72: =O69+1 -> 6 | P72: =VLOOKUP(O72,$C$56:$J$65,MATCH($J$55,$C$55:$J$55,0),FALSE) -> 446
N73: skip
N74: min | O74: =O71+1 -> 7 | P74: =VLOOKUP(O74,$C$56:$J$65,MATCH($I$55,$C$55:$J$55,0),FALSE) -> 322
N75: max | O75: =O72+1 -> 7 | P75: =VLOOKUP(O75,$C$56:$J$65,MATCH($J$55,$C$55:$J$55,0),FALSE) -> 373
N76: skip
N77: min | O77: =O74+1 -> 8 | P77: =VLOOKUP(O77,$C$56:$J$65,MATCH($I$55,$C$55:$J$55,0),FALSE) -> 210
N78: max | O78: =O75+1 -> 8 | P78: =VLOOKUP(O78,$C$56:$J$65,MATCH($J$55,$C$55:$J$55,0),FALSE) -> 292
...

Sheet Source Data>>

Sheet 1. Pivot
A1: Region | B1: North | D1: =IF(LEFT(B1,1)="(","",": "&B1) -> : North | E1: ="Annual Revenue Trend - Region: "&SUBSTITUTE(B1,"Items","Regions") -> Annual Revenue Trend - Region: North
A3: Row Labels | B3: Sum of Revenue
A4: 2011 | B4: 148948
A5: 2012 | B5: 198068
A6: 2013 | B6: 176858
A7: 2014 | B7: 121785
A8: 2015 | B8: 102733
A9: 2016 | B9: 153815
A10: 2017 | B10: 206496
A11: Grand Total | B11: 1108703

Sheet 1. Data
A1: Year | B1: Region | C1: Revenue
A2: 2011 | B2: North | C2: 148948
A3: 2012 | B3: North | C3: 198068
A4: 2013 | B4: North | C4: 176858
A5: 2014 | B5: North | C5: 121785
A6: 2015 | B6: North | C6: 102733
A7: 2016 | B7: North | C7: 153815
A8: 2017 | B8: North | C8: 206496
A9: 2011 | B9: South | C9: 154265
A10: 2012 | B10: South | C10: 144675
A11: 2013 | B11: South | C11: 185661
A12: 2014 | B12: South | C12: 140284
A13: 2015 | B13: South | C13: 196037
... A29: 2017 | B29: West | C29: 183016

Sheet 3. Pivots
A3: Groups | B3: Count of Bill Amount | E3: Groups | F3: Sum of Bill Amount
A4: $100-$199 | B4: 130 | E4: $100-$199 | F4: 19588
A5: $0-$99 | B5: 67 | E5: $0-$99 | F5: 5157
A6: $200-$299 | B6: 26 | E6: $200-$299 | F6: 6380
A7: $400-$499 | B7: 27 | E7: $400-$499 | F7: 12259
A8: $300-$399 | B8: 30 | E8: $300-$399 | F8: 10789
A9: $600+ | B9: 15 | E9: $600+ | F9: 10673
A10: $500-$599 | B10: 5 | E10: $500-$599 | F10: 2659
A11: Grand Total | B11: 300 | E11: Grand Total | F11: 67505

Sheet 3. Data
A1: Name | B1: Phone Number | C1: Provider | D1: Country | E1: Region | F1: Bill Amount | G1: Group
A2: Minerva Hawkins | B2: (100) 485-3845 | C2: Tin Can Wireless | D2: Fiji | E2: NI | F2: 121 | G2: =VLOOKUP(tblData[[#This Row],[Bill Amount]],tblGroups[],2,TRUE) -> $100-$199
A3: Denton Sanchez | B3: (106) 236-1942 | C3: AT&G | D3: Saint Pierre and Miquelon | E3: British Columbia | F3: 183 | G3: =VLOOKUP(tblData[[#This Row],[Bill Amount]],tblGroups[],2,TRUE) -> $100-$199
A4: Sebastian Holder | B4: (107) 825-6038 | C4: VBA Mobile | D4: Nepal | E4: Niger | F4: 193 | G4: =VLOOKUP(tblData[[#This Row],[Bill Amount]],tblGroups[],2,TRUE) -> $100-$199
A5: Francesca Rasmussen | B5: (109) 778-4513 | C5: ABC Telecom | D5: French Guiana | E5: QLD | F5: 174 | G5: =VLOOKUP(tblData[[#This Row],[Bill Amount]],tblGroups[],2,TRUE) -> $100-$199
A6: Andrew Saunders | B6: (112) 155-5942 | C6: AT&G | D6: Norway | E6: Alberta | F6: 178 | G6: =VLOOKUP(tblData[[#This Row],[Bill Amount]],tblGroups[],2,TRUE) -> $100-$199
A7: Keelie Merritt | B7: (114) 270-1460 | C7: VBA Mobile | D7: Sao Tome and Principe | E7: Leinster | F7: 138 | G7: =VLOOKUP(tblData[[#This Row],[Bill Amount]],tblGroups[],2,TRUE) -> $100-$199
A8: Charles Brady | B8: (116) 388-5151 | C8: VBA Mobile | D8: Sierra Leone | E8: Hampshire | F8: 73 | G8: =VLOOKUP(tblData[[#This Row],[Bill Amount]],tblGroups[],2,TRUE) -> $0-$99
A9: Ezra Lawrence | B9: (117) 674-9978 | C9: AT&G | D9: French Polynesia | E9: HH | F9: 192 | G9: =VLOOKUP(tblData[[#This Row],[Bill Amount]],tblGroups[],2,TRUE) -> $100-$199
A10: Quemby Lamb | B10: (119) 595-6064 | C10: VBA Mobile | D10: Indonesia | E10: Wie | F10: 183 | G10: =VLOOKUP(tblData[[#This Row],[Bill Amount]],tblGroups[],2,TRUE) -> $100-$199
A11: Leslie Nicholson | B11: (127) 468-5979 | C11: Tin Can Wireless | D11: Cape Verde | E11: Delaware | F11: 100 | G11: =VLOOKUP(tblData[[#This Row],[Bill Amount]],tblGroups[],2,TRUE) -> $100-$199
A12: Bert Mason | B12: (128) 546-4781 | C12: ABC Telecom | D12: Cyprus | E12: Noord Holland | F12: 104 | G12: =VLOOKUP(tblData[[#This Row],[Bill Amount]],tblGroups[],2,TRUE) -> $100-$199
A13: Nicole Howell | B13: (130) 175-1427 | C13: ABC Telecom | D13: Åland Islands | E13: MT | F13: 118 | G13: =VLOOKUP(tblData[[#This Row],[Bill Amount]],tblGroups[],2,TRUE) -> $100-$199
... A301: Ariel Wagner | B301: (X26) X88-3281 | C301: ABC Telecom | D301: Angola | E301: Guanacaste | F301: 615 | G301: =VLOOKUP(tblData[[#This Row],[Bill Amount]],tblGroups[],2,TRUE) -> $600+

Sheet 3. Groups
A1: Group Min | B1: Group Name
A2: 0 | B2: =TEXT(A2,"$0")&"-"&TEXT(A3-1,"$0") -> $0-$99
A3: 100 | B3: =TEXT(A3,"$0")&"-"&TEXT(A4-1,"$0") -> $100-$199
A4: 200 | B4: =TEXT(A4,"$0")&"-"&TEXT(A5-1,"$0") -> $200-$299
A5: 300 | B5: =TEXT(A5,"$0")&"-"&TEXT(A6-1,"$0") -> $300-$399
A6: 400 | B6: =TEXT(A6,"$0")&"-"&TEXT(A7-1,"$0") -> $400-$499
A7: 500 | B7: =TEXT(A7,"$0")&"-"&TEXT(A8-1,"$0") -> $500-$599
A8: 600 | B8: =TEXT(A8,"$0")&"+" -> $600+

Sheet 4. Data
A1: Name | B1: Age
A2: Justin Davis | B2: 80
A3: Lara Rivas | B3: 14
A4: Illana Spence | B4: 32
A5: Serena Flynn | B5: 48
A6: Azalia Crane | B6: 52
A7: Paul Frank | B7: 38
A8: Arden Huffman | B8: 67
A9: Destiny Colon | B9: 53
A10: Chandler Boyer | B10: 14
A11: Eden Bowman | B11: 43
A12: Vera Steele | B12: 17
A13: Priscilla Palmer | B13: 32
... A101: Colt Rocha | B101: 12

Sheet 5. Monthly Avg
B2: Mammoth Mountain Monthly Snowfall Inches
B3: Start Season | C3: 1970
B4: End Season | C4: 2015 | F4: Season | G4: 2011
B6: Month | C6: ="Avg Snowfall ("&C3&"-"&C4&")" -> Avg Snowfall (1970-2015) | D6: ="Snowfall ("&G4&")" -> Snowfall (2011) | F6: Row Labels | G6: Avg Snowfall
B7: Pre Oct | C7: =AVERAGEIFS('5. Data'!$C$2:$C$507, '5. Data'!$B$2:$B$507,$B7, '5. Data'!$A$2:$A$507,">="&$C$3, '5. Data'!$A$2:$A$507,"<="&$C$4) -> 7.1304348 | D7: =G7 -> 0 | F7: Pre Oct | G7: 0
B8: Oct | C8: =AVERAGEIFS('5. Data'!$C$2:$C$507,'5. Data'!$B$2:$B$507,$B8,'5. Data'!$A$2:$A$507,">="&$C$3,'5. Data'!$A$2:$A$507,"<="&$C$4) -> 6.5456522 | D8: =G8 -> 10 | F8: Oct | G8: 10
B9: Nov | C9: =AVERAGEIFS('5. Data'!$C$2:$C$507,'5. Data'!$B$2:$B$507,$B9,'5. Data'!$A$2:$A$507,">="&$C$3,'5. Data'!$A$2:$A$507,"<="&$C$4) -> 27.213043 | D9: =G9 -> 88 | F9: Nov | G9: 88
B10: Dec | C10: =AVERAGEIFS('5. Data'!$C$2:$C$507,'5. Data'!$B$2:$B$507,$B10,'5. Data'!$A$2:$A$507,">="&$C$3,'5. Data'!$A$2:$A$507,"<="&$C$4) -> 66.504348 | D10: =G10 -> 209 | F10: Dec | G10: 209
B11: Jan | C11: =AVERAGEIFS('5. Data'!$C$2:$C$507,'5. Data'!$B$2:$B$507,$B11,'5. Data'!$A$2:$A$507,">="&$C$3,'5. Data'!$A$2:$A$507,"<="&$C$4) -> 65.782609 | D11: =G11 -> 29 | F11: Jan | G11: 29
B12: Feb | C12: =AVERAGEIFS('5. Data'!$C$2:$C$507,'5. Data'!$B$2:$B$507,$B12,'5. Data'!$A$2:$A$507,">="&$C$3,'5. Data'!$A$2:$A$507,"<="&$C$4) -> 69.719565 | D12: =G12 -> 92 | F12: Feb | G12: 92
B13: Mar | C13: =AVERAGEIFS('5. Data'!$C$2:$C$507,'5. Data'!$B$2:$B$507,$B13,'5. Data'!$A$2:$A$507,">="&$C$3,'5. Data'!$A$2:$A$507,"<="&$C$4) -> 60.3 | D13: =G13 -> 177.5 | F13: Mar | G13: 177.5
B14: Apr | C14: =AVERAGEIFS('5. Data'!$C$2:$C$507,'5. Data'!$B$2:$B$507,$B14,'5. Data'!$A$2:$A$507,">="&$C$3,'5. Data'!$A$2:$A$507,"<="&$C$4) -> 34.019565 | D14: =G14 -> 31 | F14: Apr | G14: 31
B15: May | C15: =AVERAGEIFS('5. Data'!$C$2:$C$507,'5. Data'!$B$2:$B$507,$B15,'5. Data'!$A$2:$A$507,">="&$C$3,'5. Data'!$A$2:$A$507,"<="&$C$4) -> 7.4217391 | D15: =G15 -> 27.5 | F15: May | G15: 27.5
B16: Jun | C16: =AVERAGEIFS('5. Data'!$C$2:$C$507,'5. Data'!$B$2:$B$507,$B16,'5. Data'!$A$2:$A$507,">="&$C$3,'5. Data'!$A$2:$A$507,"<="&$C$4) -> 0.18043478 | D16: =G16 -> 4.5 | F16: Jun | G16: 4.5
B17: Jul | C17: =AVERAGEIFS('5. Data'!$C$2:$C$507,'5. Data'!$B$2:$B$507,$B17,'5. Data'!$A$2:$A$507,">="&$C$3,'5. Data'!$A$2:$A$507,"<="&$C$4) -> 0 | D17: =G17 -> 0 | F17: Jul | G17: 0
F18: Grand Total | G18: 60.772727

Sheet 5. Season Trend
E2: Primary Axis | F2: Secondary Axis
A3: Row Labels | B3: Sum of Snowfall Inches | D3: Year | E3: Seasonal Snowfall | F3: Selected Year
A4: 1970 | B4: 244.5 | D4: 1970 | E4: =B4 -> 244.5 | F4: =IF(D4='5. Monthly Avg'!$G$4,E4,"") | G4: <-This formula only returns a number for the selected year
A5: 1971 | B5: 255.5 | D5: 1971 | E5: =B5 -> 255.5 | F5: =IF(D5='5. Monthly Avg'!$G$4,E5,"") | G5: to highlight the selected year in the chart
A6: 1972 | B6: 268.5 | D6: 1972 | E6: =B6 -> 268.5 | F6: =IF(D6='5. Monthly Avg'!$G$4,E6,"")
A7: 1973 | B7: 370.5 | D7: 1973 | E7: =B7 -> 370.5 | F7: =IF(D7='5. Monthly Avg'!$G$4,E7,"")
A8: 1974 | B8: 306.5 | D8: 1974 | E8: =B8 -> 306.5 | F8: =IF(D8='5. Monthly Avg'!$G$4,E8,"")
A9: 1975 | B9: 378.5 | D9: 1975 | E9: =B9 -> 378.5 | F9: =IF(D9='5. Monthly Avg'!$G$4,E9,"")
A10: 1976 | B10: 197.5 | D10: 1976 | E10: =B10 -> 197.5 | F10: =IF(D10='5. Monthly Avg'!$G$4,E10,"")
A11: 1977 | B11: 94 | D11: 1977 | E11: =B11 -> 94 | F11: =IF(D11='5. Monthly Avg'!$G$4,E11,"")
A12: 1978 | B12: 487.5 | D12: 1978 | E12: =B12 -> 487.5 | F12: =IF(D12='5. Monthly Avg'!$G$4,E12,"")
A13: 1979 | B13: 386.5 | D13: 1979 | E13: =B13 -> 386.5 | F13: =IF(D13='5. Monthly Avg'!$G$4,E13,"")
A14: 1980 | B14: 444.5 | D14: 1980 | E14: =B14 -> 444.5 | F14: =IF(D14='5. Monthly Avg'!$G$4,E14,"")
A15: 1981 | B15: 230 | D15: 1981 | E15: =B15 -> 230 | F15: =IF(D15='5. Monthly Avg'!$G$4,E15,"")
A16: 1982 | B16: 502.5 | D16: 1982 | E16: =B16 -> 502.5 | F16: =IF(D16='5. Monthly Avg'!$G$4,E16,"")
A17: 1983 | B17: 546.3 | D17: 1983 | E17: =B17 -> 546.3 | F17: =IF(D17='5. Monthly Avg'!$G$4,E17,"")
... A49: 2015 | B49: 138 | D49: 2015 | E49: =B49 -> 138 | F49: =IF(D49='5. Monthly Avg'!$G$4,E49,"")
A50: Grand Total | B50: 15861.6

Sheet 5. Data
A1: Season | B1: Month | C1: Snowfall Inches
A2: 1970 | B2: Pre Oct | C2: 22
A3: 1970 | B3: Oct | C3: 0
A4: 1970 | B4: Nov | C4: 0
A5: 1970 | B5: Dec | C5: 41
A6: 1970 | B6: Jan | C6: 78
A7: 1970 | B7: Feb | C7: 30.5
A8: 1970 | B8: Mar | C8: 46
A9: 1970 | B9: Apr | C9: 27
A10: 1970 | B10: May | C10: 0
A11: 1970 | B11: Jun | C11: 0
A12: 1970 | B12: Jul | C12: 0
A13: 1971 | B13: Pre Oct | C13: 60
... A507: 2015 | B507: Jul | C507: 0

Sheet 5. Lists
A1: Season | C1: Used for validation lists on the Monthly Avg sheet
A2: 1970
A3: 1971
A4: 1972
A5: 1973
A6: 1974
A7: 1975
A8: 1976
A9: 1977
A10: 1978
A11: 1979
A12: 1980
A13: 1981
... A47: 2015

Sheet 6. Waterfall Chart
B1: ='6. Pivot'!Q5 -> Quantity | C1: Line X | D1: Ends | E1: Before | F1: After | G1: Line Y | H1: Center Y | I1: Above Y | J1: Below X | K1: Y Label
A2: ='6. Pivot'!P6 -> Starting Inventory | B2: ='6. Pivot'!Q6 -> 200 | C2: 1.5 | D2: =B2 -> 200 | G2: =B2 -> 200 | H2: FALSE | I2: TRUE | J2: TRUE
A3: ='6. Pivot'!P7 -> Received | B3: ='6. Pivot'!Q7 -> 100 | C3: =OFFSET(C3,-1,0)+1 -> 2.5 | D3: =IF(LEN(B3)=0,OFFSET(G3,-1,0),0) -> 0 | E3: =IF(OR(LEN(B3)=0,B3=0),NA(),OFFSET(E3,-1,2)) -> 200 | F3: =IF(OR(LEN(B3)=0,B3=0),NA(),OFFSET(F3,0,1)) -> 300 | G3: =SUM(B$2:OFFSET(G3,0,-5)) -> 300 | H3: =IF(H2,IF(LEN(B3)>0,AVERAGE(OFFSET(G3,-1,0,2,1)),NA()),NA()) -> #N/A | I3: =IF(I2,IF(LEN(B3)>0,MAX(OFFSET(G3,-1,0,2,1)),NA()),NA()) -> 300 | J3: =IF(J2,IF(LEN(B3)>0,MIN(OFFSET(G3,-1,0,2,1)),NA()),NA()) -> 200 | K3: =IF(LEN(B3)>0,B3,"") -> 100
A4: ='6. Pivot'!P8 -> Spoiled | B4: ='6. Pivot'!Q8 -> -30 | C4: =OFFSET(C4,-1,0)+1 -> 3.5 | D4: =IF(LEN(B4)=0,OFFSET(G4,-1,0),0) -> 0 | E4: =IF(OR(LEN(B4)=0,B4=0),NA(),OFFSET(E4,-1,2)) -> 300 | F4: =IF(OR(LEN(B4)=0,B4=0),NA(),OFFSET(F4,0,1)) -> 270 | G4: =SUM(B$2:OFFSET(G4,0,-5)) -> 270 | H4: =IF(H2,IF(LEN(B4)>0,AVERAGE(OFFSET(G4,-1,0,2,1)),NA()),NA()) -> #N/A | I4: =IF(I2,IF(LEN(B4)>0,MAX(OFFSET(G4,-1,0,2,1)),NA()),NA()) -> 300 | J4: =IF(J2,IF(LEN(B4)>0,MIN(OFFSET(G4,-1,0,2,1)),NA()),NA()) -> 270 | K4: =IF(LEN(B4)>0,B4,"") -> -30
A5: ='6. Pivot'!P9 -> Sold | B5: ='6. Pivot'!Q9 -> -100 | C5: =OFFSET(C5,-1,0)+1 -> 4.5 | D5: =IF(LEN(B5)=0,OFFSET(G5,-1,0),0) -> 0 | E5: =IF(OR(LEN(B5)=0,B5=0),NA(),OFFSET(E5,-1,2)) -> 270 | F5: =IF(OR(LEN(B5)=0,B5=0),NA(),OFFSET(F5,0,1)) -> 170 | G5: =SUM(B$2:OFFSET(G5,0,-5)) -> 170 | H5: =IF(H2,IF(LEN(B5)>0,AVERAGE(OFFSET(G5,-1,0,2,1)),NA()),NA()) -> #N/A | I5: =IF(I2,IF(LEN(B5)>0,MAX(OFFSET(G5,-1,0,2,1)),NA()),NA()) -> 270 | J5: =IF(J2,IF(LEN(B5)>0,MIN(OFFSET(G5,-1,0,2,1)),NA()),NA()) -> 170 | K5: =IF(LEN(B5)>0,B5,"") -> -100
A6: Ending Inventory | D6: =IF(LEN(B6)=0,OFFSET(G6,-1,0),0) -> 170

Sheet 6. Pivot
B1: Column Chart Data | J1: XY Scatter Chart Data | M1: Waterfall Chart Data
M3: Item | N3: Oranges
B4: Sum of Quantity | C4: Activity | F4: Secondary Axis for Column Chart | J4: Vertical Bar
B5: Item | C5: Starting Inventory | D5: Ending Inventory | F5: =B5 -> Item | G5: Starting Color | H5: Ending Color | J5: X | K5: Y | M5: Row Labels | N5: Sum of Quantity | P5: Activity | Q5: Quantity
B6: Apples | C6: 100 | D6: 35 | F6: =B6 -> Apples | G6: =IF($B6=$N$3,C6,0) -> 0 | H6: =IF($B6=$N$3,D6,0) -> 0 | J6: =MATCH($N$3,$B$6:$B$9)-0.5 -> 2.5 | K6: 0 | M6: Starting Inventory | N6: 200 | P6: Starting Inventory | Q6: =N6 -> 200
B7: Kiwis | C7: 150 | D7: 50 | F7: =B7 -> Kiwis | G7: =IF($B7=$N$3,C7,0) -> 0 | H7: =IF($B7=$N$3,D7,0) -> 0 | J7: =MATCH($N$3,$B$6:$B$9)-0.5 -> 2.5 | K7: 1 | M7: Received | N7: 100 | P7: Received | Q7: =N7 -> 100
B8: Oranges | C8: 200 | D8: 170 | F8: =B8 -> Oranges | G8: =IF($B8=$N$3,C8,0) -> 200 | H8: =IF($B8=$N$3,D8,0) -> 170 | M8: Spoiled | N8: -30 | P8: Spoiled | Q8: =N8 -> -30
B9: Pears | C9: 120 | D9: 120 | F9: =B9 -> Pears | G9: =IF($B9=$N$3,C9,0) -> 0 | H9: =IF($B9=$N$3,D9,0) -> 0 | M9: Sold | N9: -100 | P9: Sold | Q9: =N9 -> -100
M10: Ending Inventory | N10: 170 | P10: Ending Inventory | Q10: =N10 -> 170

Sheet 6. Data
A1: Item | B1: Activity | C1: Quantity
A2: Apples | B2: Starting Inventory | C2: 100
A3: Apples | B3: Received | C3: 50
A4: Apples | B4: Spoiled | C4: -20
A5: Apples | B5: Sold | C5: -95
A6: Apples | B6: Ending Inventory | C6: =SUM(C2:C5) -> 35
A7: Oranges | B7: Starting Inventory | C7: 200
A8: Oranges | B8: Received | C8: 100
A9: Oranges | B9: Spoiled | C9: -30
A10: Oranges | B10: Sold | C10: -100
A11: Oranges | B11: Ending Inventory | C11: =SUM(C7:C10) -> 170
A12: Pears | B12: Starting Inventory | C12: 120
A13: Pears | B13: Received | C13: 50
A14: Pears | B14: Spoiled | C14: -10
A15: Pears | B15: Sold | C15: -40
A16: Pears | B16: Ending Inventory | C16: =SUM(C12:C15) -> 120
A17: Kiwis | B17: Starting Inventory | C17: 150
A18: Kiwis | B18: Received | C18: 0
A19: Kiwis | B19: Spoiled | C19: 0
A20: Kiwis | B20: Sold | C20: -100
A21: Kiwis | B21: Ending Inventory | C21: =SUM(C17:C20) -> 50

Sheet 9. Slicer Pivot
A1: Name | B1: Symbol | C1: Index | F1: Name | G1: Index | H1: Symbol
A2: $ Amount | B2: $ | C2: 1 | F2: % Change MoM | G2: 3 | H2: %↕
A3: % of Total | B3: %∑ | C3: 2
A4: % Change MoM | B4: %↕ | C4: 3

Sheet Source
A1: Author: | B1: Jon Acampora
A2: Source: | B2: https://www.excelcampus.com/charts/10-advanced-charts

Sheet 2. Conditional Donut (2)
A1: Conditional Progress Donut Chart
B4: Actual: | C4: =C12/100 -> 0.6
B6: Level Max | C6: Data Series
A7: Level 1 | B7: 0.75 | C7: =IF(C$4<=$B$7,C$4," ") -> 0.6
A8: Level 2 | B8: 0.95 | C8: =IF(AND(C$4>$B7,C$4<=$B8),C$4," ")
A9: Level 3 | B9: 1 | C9: =IF(C$4>$B8,C$4," ")
B10: Remainder: | C10: =MAX(1,C4)-C4 -> 0.4
B12: Control Link: | C12: 60
E23: Source: | F23: https://www.excelcampus.com/charts/progress-doughnut-chart/
